BEGIN:VCALENDAR
VERSION:2.0
PRODID:-//Startup Sioux Falls - ECPv6.15.20//NONSGML v1.0//EN
CALSCALE:GREGORIAN
METHOD:PUBLISH
X-ORIGINAL-URL:https://www.startupsiouxfalls.com
X-WR-CALDESC:Events for Startup Sioux Falls
REFRESH-INTERVAL;VALUE=DURATION:PT1H
X-Robots-Tag:noindex
X-PUBLISHED-TTL:PT1H
BEGIN:VTIMEZONE
TZID:America/Chicago
BEGIN:DAYLIGHT
TZOFFSETFROM:-0600
TZOFFSETTO:-0500
TZNAME:CDT
DTSTART:20240310T080000
END:DAYLIGHT
BEGIN:STANDARD
TZOFFSETFROM:-0500
TZOFFSETTO:-0600
TZNAME:CST
DTSTART:20241103T070000
END:STANDARD
BEGIN:DAYLIGHT
TZOFFSETFROM:-0600
TZOFFSETTO:-0500
TZNAME:CDT
DTSTART:20250309T080000
END:DAYLIGHT
BEGIN:STANDARD
TZOFFSETFROM:-0500
TZOFFSETTO:-0600
TZNAME:CST
DTSTART:20251102T070000
END:STANDARD
BEGIN:DAYLIGHT
TZOFFSETFROM:-0600
TZOFFSETTO:-0500
TZNAME:CDT
DTSTART:20260308T080000
END:DAYLIGHT
BEGIN:STANDARD
TZOFFSETFROM:-0500
TZOFFSETTO:-0600
TZNAME:CST
DTSTART:20261101T070000
END:STANDARD
END:VTIMEZONE
BEGIN:VEVENT
DTSTART;TZID=America/Chicago:20250813T160000
DTEND;TZID=America/Chicago:20250813T170000
DTSTAMP:20260422T171346
CREATED:20250305T214459Z
LAST-MODIFIED:20250430T161143Z
UID:10002257-1755100800-1755104400@www.startupsiouxfalls.com
SUMMARY:Neurodivergent Meetup
DESCRIPTION:Sign up HERE. \nAbout: \nThe Neurodivergent Meetup aims to build a supportive\, empowering community for neurodivergent entrepreneurs. This group will foster genuine connections\, shared learning experiences\, and collaborative problem-solving. It provides a safe\, inclusive space for members to embrace their unique strengths\, navigate challenges\, and grow thriving businesses. \nWho it’s for: \nEntrepreneurs\, small business owners\, and creatives who identify as neurodivergent or are exploring their neurodivergent identity. Open to all industries and business stages\, the group values inclusivity\, innovation\, and community. \nUnmet needs addressed: \nThis group addresses the lack of resources and opportunities specifically tailored to neurodivergent entrepreneurs. Unique challenges like executive functioning struggles\, sensory sensitivities\, and unconventional communication styles often go unsupported. The Neurodivergent Meetup fills this gap by offering: \n\nPractical tools and strategies.\nPeer support and shared experiences.\nMethods to leverage neurodivergent traits as business strengths.\n\nEntry Instructions: \nPlease enter the building from Door 1\, which is located on Phillips Avenue. ADA accessibility is available at Door 2 on the east side of the building\, but please call 605-275-8000 if you need further assistance. \nParking Instructions: \nFree and paid parking is available throughout the area. Please refer to this parking guide. \nSign up HERE.
URL:https://www.startupsiouxfalls.com/event/neurodivergent-meetup/2025-08-13/
LOCATION:Startup Sioux Falls (The Depot)\, 100 E 6th St\, Sioux Falls\, SD\, 57104\, United States
CATEGORIES:Meetups
ATTACH;FMTTYPE=image/png:https://www.startupsiouxfalls.com/wp-content/uploads/2025/03/Neurodivergent-Entrepreneurs.png
END:VEVENT
BEGIN:VEVENT
DTSTART;TZID=America/Chicago:20250814T160000
DTEND;TZID=America/Chicago:20250814T170000
DTSTAMP:20260422T171346
CREATED:20250731T162227Z
LAST-MODIFIED:20250731T162228Z
UID:10002384-1755187200-1755190800@www.startupsiouxfalls.com
SUMMARY:Cybersecurity Forum Meetup
DESCRIPTION:Sign up HERE. \nThe Cyber Security Forum will provide a space to discuss cybersecurity topics and questions. The group will focus on educating small business owners and local leaders on cybersecurity practices\, ensuring members of Startup Sioux Falls are more secure through collaboration and shared knowledge. \nABOUT THE MEETUP: \nThis group will address the growing need for cybersecurity awareness and education within the Startup Sioux Falls community\, helping members protect their businesses and data. \nWHO THIS IS FOR: \nSmall business owners and local leaders in need of cybersecurity education. \nDIRECTIONS: \nPlease enter in Door 1 off of Phillips Ave. and a staff member can direct you to the correct room. \nPARKING: \nThere is limited free parking behind the building and 2 hour parking in front of the Jones building on Phillips Ave. \nSee you there!
URL:https://www.startupsiouxfalls.com/event/cybersecurity-forum-meetup-2/
LOCATION:Startup Sioux Falls\, 100 East 6th Street\, Sioux falls\, SD\, 57104\, United States
CATEGORIES:Meetups,Startup Sioux Falls
ATTACH;FMTTYPE=image/png:https://www.startupsiouxfalls.com/wp-content/uploads/2025/01/Cybersecurity-Forum-2.png
END:VEVENT
END:VCALENDAR