BEGIN:VCALENDAR
VERSION:2.0
PRODID:-//Startup Sioux Falls - ECPv6.15.20//NONSGML v1.0//EN
CALSCALE:GREGORIAN
METHOD:PUBLISH
X-WR-CALNAME:Startup Sioux Falls
X-ORIGINAL-URL:https://www.startupsiouxfalls.com
X-WR-CALDESC:Events for Startup Sioux Falls
REFRESH-INTERVAL;VALUE=DURATION:PT1H
X-Robots-Tag:noindex
X-PUBLISHED-TTL:PT1H
BEGIN:VTIMEZONE
TZID:America/Chicago
BEGIN:DAYLIGHT
TZOFFSETFROM:-0600
TZOFFSETTO:-0500
TZNAME:CDT
DTSTART:20240310T080000
END:DAYLIGHT
BEGIN:STANDARD
TZOFFSETFROM:-0500
TZOFFSETTO:-0600
TZNAME:CST
DTSTART:20241103T070000
END:STANDARD
BEGIN:DAYLIGHT
TZOFFSETFROM:-0600
TZOFFSETTO:-0500
TZNAME:CDT
DTSTART:20250309T080000
END:DAYLIGHT
BEGIN:STANDARD
TZOFFSETFROM:-0500
TZOFFSETTO:-0600
TZNAME:CST
DTSTART:20251102T070000
END:STANDARD
BEGIN:DAYLIGHT
TZOFFSETFROM:-0600
TZOFFSETTO:-0500
TZNAME:CDT
DTSTART:20260308T080000
END:DAYLIGHT
BEGIN:STANDARD
TZOFFSETFROM:-0500
TZOFFSETTO:-0600
TZNAME:CST
DTSTART:20261101T070000
END:STANDARD
END:VTIMEZONE
BEGIN:VEVENT
DTSTART;TZID=America/Chicago:20250701T160000
DTEND;TZID=America/Chicago:20250701T170000
DTSTAMP:20260422T214613
CREATED:20250124T170923Z
LAST-MODIFIED:20250617T220015Z
UID:10002383-1751385600-1751389200@www.startupsiouxfalls.com
SUMMARY:Cybersecurity Forum Meetup
DESCRIPTION:Sign up HERE. \nThe Cyber Security Forum will provide a space to discuss cybersecurity topics and questions. The group will focus on educating small business owners and local leaders on cybersecurity practices\, ensuring members of Startup Sioux Falls are more secure through collaboration and shared knowledge. \nABOUT THE MEETUP: \nThis group will address the growing need for cybersecurity awareness and education within the Startup Sioux Falls community\, helping members protect their businesses and data. \nWHO THIS IS FOR: \nSmall business owners and local leaders in need of cybersecurity education. \nDIRECTIONS: \nPlease enter in Door 1 off of Phillips Ave. and a staff member can direct you to the correct room. \nPARKING: \nThere is limited free parking behind the building and 2 hour parking in front of the Jones building on Phillips Ave. \nSee you there!
URL:https://www.startupsiouxfalls.com/event/cybersecurity-forum-meetup/2025-07-01/
LOCATION:Startup Sioux Falls\, 100 East 6th Street\, Sioux falls\, SD\, 57104\, United States
CATEGORIES:Meetups,Startup Sioux Falls
ATTACH;FMTTYPE=image/png:https://www.startupsiouxfalls.com/wp-content/uploads/2025/01/Cybersecurity-Forum-2.png
END:VEVENT
BEGIN:VEVENT
DTSTART;TZID=America/Chicago:20250717T180000
DTEND;TZID=America/Chicago:20250717T190000
DTSTAMP:20260422T214613
CREATED:20250114T201534Z
LAST-MODIFIED:20250114T201534Z
UID:10001897-1752775200-1752778800@www.startupsiouxfalls.com
SUMMARY:Software Sync Meetup
DESCRIPTION:Sign up HERE. \nSoftware Sync seeks to create a collaborative\, inclusive community of learners across all skill levels in software engineering. Whether attendees are beginners or experienced professionals\, the group will foster knowledge-sharing\, resource-sharing\, and personal growth. \nABOUT THE MEETUP: \nSioux Falls currently lacks a community group focused on software engineering. This group will fill the gap by providing a space for collaboration and skill-building. \nWHO THIS IS FOR: \nIndividuals who work in software and are looking to upskill or learn new skills. \nDIRECTIONS: \nPlease enter in Door 1 off of Phillips Ave. and a staff member can direct you to the correct room. \nPARKING: \nThere is limited free parking behind the building and 2 hour parking in front of the Jones building on Phillips Ave. \nSee you there! \n 
URL:https://www.startupsiouxfalls.com/event/software-sync-meetup/2025-07-17/
LOCATION:Startup Sioux Falls\, 100 East 6th Street\, Sioux falls\, SD\, 57104\, United States
CATEGORIES:Meetups,Startup Sioux Falls
ATTACH;FMTTYPE=image/png:https://www.startupsiouxfalls.com/wp-content/uploads/2025/01/Meetups-Graphic-Template-1920-×-1080-px.png
END:VEVENT
END:VCALENDAR