BEGIN:VCALENDAR
VERSION:2.0
PRODID:-//Startup Sioux Falls - ECPv6.15.20//NONSGML v1.0//EN
CALSCALE:GREGORIAN
METHOD:PUBLISH
X-ORIGINAL-URL:https://www.startupsiouxfalls.com
X-WR-CALDESC:Events for Startup Sioux Falls
REFRESH-INTERVAL;VALUE=DURATION:PT1H
X-Robots-Tag:noindex
X-PUBLISHED-TTL:PT1H
BEGIN:VTIMEZONE
TZID:America/Chicago
BEGIN:DAYLIGHT
TZOFFSETFROM:-0600
TZOFFSETTO:-0500
TZNAME:CDT
DTSTART:20240310T080000
END:DAYLIGHT
BEGIN:STANDARD
TZOFFSETFROM:-0500
TZOFFSETTO:-0600
TZNAME:CST
DTSTART:20241103T070000
END:STANDARD
BEGIN:DAYLIGHT
TZOFFSETFROM:-0600
TZOFFSETTO:-0500
TZNAME:CDT
DTSTART:20250309T080000
END:DAYLIGHT
BEGIN:STANDARD
TZOFFSETFROM:-0500
TZOFFSETTO:-0600
TZNAME:CST
DTSTART:20251102T070000
END:STANDARD
BEGIN:DAYLIGHT
TZOFFSETFROM:-0600
TZOFFSETTO:-0500
TZNAME:CDT
DTSTART:20260308T080000
END:DAYLIGHT
BEGIN:STANDARD
TZOFFSETFROM:-0500
TZOFFSETTO:-0600
TZNAME:CST
DTSTART:20261101T070000
END:STANDARD
BEGIN:DAYLIGHT
TZOFFSETFROM:-0600
TZOFFSETTO:-0500
TZNAME:CDT
DTSTART:20270314T080000
END:DAYLIGHT
BEGIN:STANDARD
TZOFFSETFROM:-0500
TZOFFSETTO:-0600
TZNAME:CST
DTSTART:20271107T070000
END:STANDARD
END:VTIMEZONE
BEGIN:VEVENT
DTSTART;TZID=America/Chicago:20260408T180000
DTEND;TZID=America/Chicago:20260408T190000
DTSTAMP:20260420T031437
CREATED:20260129T182916Z
LAST-MODIFIED:20260129T182917Z
UID:10001965-1775671200-1775674800@www.startupsiouxfalls.com
SUMMARY:Local Bites Network Meetup
DESCRIPTION:Sign up HERE. \nThe Local Bites Network aims to empower food entrepreneurs at all stages of their journey by providing resources\, mentorship\, and collaborative opportunities tailored to the unique challenges of the food industry. This group will foster connections between producers\, restaurateurs\, food truck operators\, and value-added product creators while leveraging the expertise of seasoned entrepreneurs and community resources. \nABOUT \nThis group addresses the lack of tailored support and resources for food entrepreneurs in Sioux Falls. It fills the gap by offering food-specific expertise\, mentorship\, and collaboration opportunities. The group aims to tackle challenges such as marketing perishable products\, navigating food regulations\, scaling production\, and building partnerships within the local ecosystem. \nWHO \nFood producers\, restaurateurs\, food truck operators\, value-added product creators\, chefs\, markets\, and anyone in the local food ecosystem. \nENTRY \nPlease enter the building from Door 1\, which is located on Phillips Avenue. ADA accessibility is available at Door 2 on the east side of the building\, but please call 605-275-8000 if you need further assistance. \nPARKING \nFree and paid parking is available throughout the area. Please refer to this parking guide. \nSign up HERE.
URL:https://www.startupsiouxfalls.com/event/local-bites-network-meetup-2/2026-04-08/
LOCATION:Startup Sioux Falls\, 100 East 6th Street\, Sioux falls\, SD\, 57104\, United States
CATEGORIES:Meetups,Startup Sioux Falls
ATTACH;FMTTYPE=image/png:https://www.startupsiouxfalls.com/wp-content/uploads/2025/01/Local-Bites-Network-Banner.png
END:VEVENT
BEGIN:VEVENT
DTSTART;TZID=America/Chicago:20260311T180000
DTEND;TZID=America/Chicago:20260311T190000
DTSTAMP:20260420T031437
CREATED:20260129T182916Z
LAST-MODIFIED:20260129T182917Z
UID:10001964-1773252000-1773255600@www.startupsiouxfalls.com
SUMMARY:Local Bites Network Meetup
DESCRIPTION:Sign up HERE. \nThe Local Bites Network aims to empower food entrepreneurs at all stages of their journey by providing resources\, mentorship\, and collaborative opportunities tailored to the unique challenges of the food industry. This group will foster connections between producers\, restaurateurs\, food truck operators\, and value-added product creators while leveraging the expertise of seasoned entrepreneurs and community resources. \nABOUT \nThis group addresses the lack of tailored support and resources for food entrepreneurs in Sioux Falls. It fills the gap by offering food-specific expertise\, mentorship\, and collaboration opportunities. The group aims to tackle challenges such as marketing perishable products\, navigating food regulations\, scaling production\, and building partnerships within the local ecosystem. \nWHO \nFood producers\, restaurateurs\, food truck operators\, value-added product creators\, chefs\, markets\, and anyone in the local food ecosystem. \nENTRY \nPlease enter the building from Door 1\, which is located on Phillips Avenue. ADA accessibility is available at Door 2 on the east side of the building\, but please call 605-275-8000 if you need further assistance. \nPARKING \nFree and paid parking is available throughout the area. Please refer to this parking guide. \nSign up HERE.
URL:https://www.startupsiouxfalls.com/event/local-bites-network-meetup-2/2026-03-11/
LOCATION:Startup Sioux Falls\, 100 East 6th Street\, Sioux falls\, SD\, 57104\, United States
CATEGORIES:Meetups,Startup Sioux Falls
ATTACH;FMTTYPE=image/png:https://www.startupsiouxfalls.com/wp-content/uploads/2025/01/Local-Bites-Network-Banner.png
END:VEVENT
BEGIN:VEVENT
DTSTART;TZID=America/Chicago:20260211T180000
DTEND;TZID=America/Chicago:20260211T190000
DTSTAMP:20260420T031437
CREATED:20260129T182916Z
LAST-MODIFIED:20260129T182917Z
UID:10001963-1770832800-1770836400@www.startupsiouxfalls.com
SUMMARY:Local Bites Network Meetup
DESCRIPTION:Sign up HERE. \nThe Local Bites Network aims to empower food entrepreneurs at all stages of their journey by providing resources\, mentorship\, and collaborative opportunities tailored to the unique challenges of the food industry. This group will foster connections between producers\, restaurateurs\, food truck operators\, and value-added product creators while leveraging the expertise of seasoned entrepreneurs and community resources. \nABOUT \nThis group addresses the lack of tailored support and resources for food entrepreneurs in Sioux Falls. It fills the gap by offering food-specific expertise\, mentorship\, and collaboration opportunities. The group aims to tackle challenges such as marketing perishable products\, navigating food regulations\, scaling production\, and building partnerships within the local ecosystem. \nWHO \nFood producers\, restaurateurs\, food truck operators\, value-added product creators\, chefs\, markets\, and anyone in the local food ecosystem. \nENTRY \nPlease enter the building from Door 1\, which is located on Phillips Avenue. ADA accessibility is available at Door 2 on the east side of the building\, but please call 605-275-8000 if you need further assistance. \nPARKING \nFree and paid parking is available throughout the area. Please refer to this parking guide. \nSign up HERE.
URL:https://www.startupsiouxfalls.com/event/local-bites-network-meetup-2/2026-02-11/
LOCATION:Startup Sioux Falls\, 100 East 6th Street\, Sioux falls\, SD\, 57104\, United States
CATEGORIES:Meetups,Startup Sioux Falls
ATTACH;FMTTYPE=image/png:https://www.startupsiouxfalls.com/wp-content/uploads/2025/01/Local-Bites-Network-Banner.png
END:VEVENT
BEGIN:VEVENT
DTSTART;TZID=America/Chicago:20250814T160000
DTEND;TZID=America/Chicago:20250814T170000
DTSTAMP:20260420T031437
CREATED:20250731T162227Z
LAST-MODIFIED:20250731T162228Z
UID:10002384-1755187200-1755190800@www.startupsiouxfalls.com
SUMMARY:Cybersecurity Forum Meetup
DESCRIPTION:Sign up HERE. \nThe Cyber Security Forum will provide a space to discuss cybersecurity topics and questions. The group will focus on educating small business owners and local leaders on cybersecurity practices\, ensuring members of Startup Sioux Falls are more secure through collaboration and shared knowledge. \nABOUT THE MEETUP: \nThis group will address the growing need for cybersecurity awareness and education within the Startup Sioux Falls community\, helping members protect their businesses and data. \nWHO THIS IS FOR: \nSmall business owners and local leaders in need of cybersecurity education. \nDIRECTIONS: \nPlease enter in Door 1 off of Phillips Ave. and a staff member can direct you to the correct room. \nPARKING: \nThere is limited free parking behind the building and 2 hour parking in front of the Jones building on Phillips Ave. \nSee you there!
URL:https://www.startupsiouxfalls.com/event/cybersecurity-forum-meetup-2/
LOCATION:Startup Sioux Falls\, 100 East 6th Street\, Sioux falls\, SD\, 57104\, United States
CATEGORIES:Meetups,Startup Sioux Falls
ATTACH;FMTTYPE=image/png:https://www.startupsiouxfalls.com/wp-content/uploads/2025/01/Cybersecurity-Forum-2.png
END:VEVENT
BEGIN:VEVENT
DTSTART;TZID=America/Chicago:20250717T180000
DTEND;TZID=America/Chicago:20250717T190000
DTSTAMP:20260420T031437
CREATED:20250114T201534Z
LAST-MODIFIED:20250114T201534Z
UID:10001897-1752775200-1752778800@www.startupsiouxfalls.com
SUMMARY:Software Sync Meetup
DESCRIPTION:Sign up HERE. \nSoftware Sync seeks to create a collaborative\, inclusive community of learners across all skill levels in software engineering. Whether attendees are beginners or experienced professionals\, the group will foster knowledge-sharing\, resource-sharing\, and personal growth. \nABOUT THE MEETUP: \nSioux Falls currently lacks a community group focused on software engineering. This group will fill the gap by providing a space for collaboration and skill-building. \nWHO THIS IS FOR: \nIndividuals who work in software and are looking to upskill or learn new skills. \nDIRECTIONS: \nPlease enter in Door 1 off of Phillips Ave. and a staff member can direct you to the correct room. \nPARKING: \nThere is limited free parking behind the building and 2 hour parking in front of the Jones building on Phillips Ave. \nSee you there! \n 
URL:https://www.startupsiouxfalls.com/event/software-sync-meetup/2025-07-17/
LOCATION:Startup Sioux Falls\, 100 East 6th Street\, Sioux falls\, SD\, 57104\, United States
CATEGORIES:Meetups,Startup Sioux Falls
ATTACH;FMTTYPE=image/png:https://www.startupsiouxfalls.com/wp-content/uploads/2025/01/Meetups-Graphic-Template-1920-×-1080-px.png
END:VEVENT
BEGIN:VEVENT
DTSTART;TZID=America/Chicago:20250701T160000
DTEND;TZID=America/Chicago:20250701T170000
DTSTAMP:20260420T031437
CREATED:20250124T170923Z
LAST-MODIFIED:20250617T220015Z
UID:10002383-1751385600-1751389200@www.startupsiouxfalls.com
SUMMARY:Cybersecurity Forum Meetup
DESCRIPTION:Sign up HERE. \nThe Cyber Security Forum will provide a space to discuss cybersecurity topics and questions. The group will focus on educating small business owners and local leaders on cybersecurity practices\, ensuring members of Startup Sioux Falls are more secure through collaboration and shared knowledge. \nABOUT THE MEETUP: \nThis group will address the growing need for cybersecurity awareness and education within the Startup Sioux Falls community\, helping members protect their businesses and data. \nWHO THIS IS FOR: \nSmall business owners and local leaders in need of cybersecurity education. \nDIRECTIONS: \nPlease enter in Door 1 off of Phillips Ave. and a staff member can direct you to the correct room. \nPARKING: \nThere is limited free parking behind the building and 2 hour parking in front of the Jones building on Phillips Ave. \nSee you there!
URL:https://www.startupsiouxfalls.com/event/cybersecurity-forum-meetup/2025-07-01/
LOCATION:Startup Sioux Falls\, 100 East 6th Street\, Sioux falls\, SD\, 57104\, United States
CATEGORIES:Meetups,Startup Sioux Falls
ATTACH;FMTTYPE=image/png:https://www.startupsiouxfalls.com/wp-content/uploads/2025/01/Cybersecurity-Forum-2.png
END:VEVENT
BEGIN:VEVENT
DTSTART;TZID=America/Chicago:20250619T180000
DTEND;TZID=America/Chicago:20250619T190000
DTSTAMP:20260420T031437
CREATED:20250114T201534Z
LAST-MODIFIED:20250114T201534Z
UID:10001896-1750356000-1750359600@www.startupsiouxfalls.com
SUMMARY:Software Sync Meetup
DESCRIPTION:Sign up HERE. \nSoftware Sync seeks to create a collaborative\, inclusive community of learners across all skill levels in software engineering. Whether attendees are beginners or experienced professionals\, the group will foster knowledge-sharing\, resource-sharing\, and personal growth. \nABOUT THE MEETUP: \nSioux Falls currently lacks a community group focused on software engineering. This group will fill the gap by providing a space for collaboration and skill-building. \nWHO THIS IS FOR: \nIndividuals who work in software and are looking to upskill or learn new skills. \nDIRECTIONS: \nPlease enter in Door 1 off of Phillips Ave. and a staff member can direct you to the correct room. \nPARKING: \nThere is limited free parking behind the building and 2 hour parking in front of the Jones building on Phillips Ave. \nSee you there! \n 
URL:https://www.startupsiouxfalls.com/event/software-sync-meetup/2025-06-19/
LOCATION:Startup Sioux Falls\, 100 East 6th Street\, Sioux falls\, SD\, 57104\, United States
CATEGORIES:Meetups,Startup Sioux Falls
ATTACH;FMTTYPE=image/png:https://www.startupsiouxfalls.com/wp-content/uploads/2025/01/Meetups-Graphic-Template-1920-×-1080-px.png
END:VEVENT
BEGIN:VEVENT
DTSTART;TZID=America/Chicago:20250604T080000
DTEND;TZID=America/Chicago:20250604T091500
DTSTAMP:20260420T031437
CREATED:20241227T173626Z
LAST-MODIFIED:20250522T150341Z
UID:10001878-1749024000-1749028500@www.startupsiouxfalls.com
SUMMARY:Startup Sunrise - Nonprofits
DESCRIPTION:Join us for one of the best monthly entrepreneurial gatherings in Sioux Falls.\nStartup Sioux Falls invites you to a morning of inspiration and connection at our monthly event\, Startup Sunrise. Each month\, two startup founders or business leaders will briefly share their journey\, followed by a facilitated conversation. Startup Sunrise transforms early mornings into a vibrant environment to connect\, learn\, share ideas\, and problem-solve with the brightest minds in our community! \nWhen: Every first Wednesday of the month\, 8:00 AM – 9:15 AM \nWhere: Startup Sioux Falls\, 100 E 6th Street\, Sioux Falls\, SD 57104 \nLearn more about Startup Sunrise here. \nThis Month’s Topic and Speakers:\nIn June\, we look forward to hosting Nonprofit Founders with facilitator Amy Pokela\, founder and owner of AMPO\, and featured speakers Travis Entenman\, Executive Director of Friends of the Big Sioux River\, and Angela Kennecke\, founder and owner of Emily’s Hope. \nSchedule\n8:00 AM: Coffee – Connect over a cup of coffee from The Source. \n8:30 AM: Welcome performance by the featured artist \n8:35 AM: Founder Stories – Hear 3-minute presentations from two founders or business leaders\, followed by a facilitated conversation and audience Q&A. \n9:15 AM: Event concludes\, but FREE coworking begins (8am-5pm) \nTicket Information\nTickets are free\, but space is limited. Grab your free ticket on Eventbrite here. Hurry\, they go fast! \nWho should attend?\n\nFounders\, innovators\, community leaders\, and creatives.\nCommunity builders who want to contribute to the startup community.\nIndividuals who have experience in the industry or topic of the month\n\nWhy Attend?\nStartup Sunrise is your opportunity to kick-start your day with inspiration and connection. A little bit of what you can expect: \n\nInspiration from the stories of startup founders and engaging conversation.\nFace-to-face networking with like-minded people.\nA supportive environment willing to help you take your next step as a founder.\n\nAbout Amy Pokela and AMPO \nAmy Pokela is a nonprofit strategist\, educator\, and fundraising expert. As founder of AMPO\, she helps organizations build sustainable fundraising systems rooted in strategy\, storytelling\, and donor trust. Her work combines data-driven insights with authentic connection\, helping nonprofits grow predictable revenue and deepen mission impact. Amy is known for turning complex challenges into clear\, actionable plans that inspire generosity\, build capacity\, and ensure long-term organizational success. \nAbout Travis Entenman and Friends of the Big Sioux River \n\n\n\n\nTravis Entenman\, Executive Director of Friends of the Big Sioux River\, has been deeply connected to nature from a young age. Growing up exploring the forests of northern Idaho and the grasslands of South Dakota is the main reason for that. His passion for conserving native prairies\, improving water quality\, and inspiring community action drives his mission to leave the earth better than we found it\, challenging the status quo and proving what’s possible when we care deeply for our environment. \n\nAbout Angela Kennecke and Emily’s Hope \nAngela Kennecke\, an Emmy-winning journalist and South Dakota Hall of Fame inductee\, founded Emily’s Hope to combat the stigma of addiction and the fentanyl crisis after losing her daughter\, Emily\, to fentanyl poisoning. Through treatment scholarships\, prevention programs\, family support groups\, and advocacy\, Angela transforms personal tragedy into impactful action\, saving lives and spreading hope. \n\n\n\n\n\n\n\nEntry Instructions\n\n\n\n\nPlease enter from the east side of the building\, directly adjacent to the parking lot. \nIf an ADA accommodation is needed\, please contact the Startup Sioux Falls office at 605-275-8000. \nParking Instructions: \nFree and paid parking is available throughout the area. Please refer to this parking guide. \nSponsor\nThis event is made possible thanks to a sponsorship from The First National Bank in Sioux Falls. \nQuestions? Contact:\nJeff or Adyn \njeff@startupsiouxfalls.com / adyn@startupsiouxfalls.com
URL:https://www.startupsiouxfalls.com/event/startup-sunrise-nonprofits-2/
LOCATION:Startup Sioux Falls\, 100 East 6th Street\, Sioux falls\, SD\, 57104\, United States
CATEGORIES:Startup Sioux Falls
ATTACH;FMTTYPE=image/png:https://www.startupsiouxfalls.com/wp-content/uploads/2024/12/June-4.png
END:VEVENT
BEGIN:VEVENT
DTSTART;TZID=America/Chicago:20250603T160000
DTEND;TZID=America/Chicago:20250603T170000
DTSTAMP:20260420T031437
CREATED:20250124T170923Z
LAST-MODIFIED:20250617T220015Z
UID:10002382-1748966400-1748970000@www.startupsiouxfalls.com
SUMMARY:Cybersecurity Forum Meetup
DESCRIPTION:Sign up HERE. \nThe Cyber Security Forum will provide a space to discuss cybersecurity topics and questions. The group will focus on educating small business owners and local leaders on cybersecurity practices\, ensuring members of Startup Sioux Falls are more secure through collaboration and shared knowledge. \nABOUT THE MEETUP: \nThis group will address the growing need for cybersecurity awareness and education within the Startup Sioux Falls community\, helping members protect their businesses and data. \nWHO THIS IS FOR: \nSmall business owners and local leaders in need of cybersecurity education. \nDIRECTIONS: \nPlease enter in Door 1 off of Phillips Ave. and a staff member can direct you to the correct room. \nPARKING: \nThere is limited free parking behind the building and 2 hour parking in front of the Jones building on Phillips Ave. \nSee you there!
URL:https://www.startupsiouxfalls.com/event/cybersecurity-forum-meetup/2025-06-03/
LOCATION:Startup Sioux Falls\, 100 East 6th Street\, Sioux falls\, SD\, 57104\, United States
CATEGORIES:Meetups,Startup Sioux Falls
ATTACH;FMTTYPE=image/png:https://www.startupsiouxfalls.com/wp-content/uploads/2025/01/Cybersecurity-Forum-2.png
END:VEVENT
BEGIN:VEVENT
DTSTART;TZID=America/Chicago:20250515T180000
DTEND;TZID=America/Chicago:20250515T190000
DTSTAMP:20260420T031437
CREATED:20250114T201534Z
LAST-MODIFIED:20250114T201534Z
UID:10001895-1747332000-1747335600@www.startupsiouxfalls.com
SUMMARY:Software Sync Meetup
DESCRIPTION:Sign up HERE. \nSoftware Sync seeks to create a collaborative\, inclusive community of learners across all skill levels in software engineering. Whether attendees are beginners or experienced professionals\, the group will foster knowledge-sharing\, resource-sharing\, and personal growth. \nABOUT THE MEETUP: \nSioux Falls currently lacks a community group focused on software engineering. This group will fill the gap by providing a space for collaboration and skill-building. \nWHO THIS IS FOR: \nIndividuals who work in software and are looking to upskill or learn new skills. \nDIRECTIONS: \nPlease enter in Door 1 off of Phillips Ave. and a staff member can direct you to the correct room. \nPARKING: \nThere is limited free parking behind the building and 2 hour parking in front of the Jones building on Phillips Ave. \nSee you there! \n 
URL:https://www.startupsiouxfalls.com/event/software-sync-meetup/2025-05-15/
LOCATION:Startup Sioux Falls\, 100 East 6th Street\, Sioux falls\, SD\, 57104\, United States
CATEGORIES:Meetups,Startup Sioux Falls
ATTACH;FMTTYPE=image/png:https://www.startupsiouxfalls.com/wp-content/uploads/2025/01/Meetups-Graphic-Template-1920-×-1080-px.png
END:VEVENT
BEGIN:VEVENT
DTSTART;TZID=America/Chicago:20250507T074500
DTEND;TZID=America/Chicago:20250507T100000
DTSTAMP:20260420T031437
CREATED:20241227T173136Z
LAST-MODIFIED:20250416T212700Z
UID:10001876-1746603900-1746612000@www.startupsiouxfalls.com
SUMMARY:Startup Sunrise - AI x SBA Small Business Resource Fair
DESCRIPTION:Join us for one of the best monthly entrepreneurial gatherings in Sioux Falls.\nStartup Sioux Falls invites you to a morning of inspiration and connection at our monthly event\, Startup Sunrise. Each month\, two startup founders or business leaders will briefly share their journey\, followed by a facilitated conversation. Startup Sunrise transforms early mornings into a vibrant environment to connect\, learn\, share ideas\, and problem-solve with the brightest minds in our community! \nWhen: Every first Wednesday of the month\, 8:00 AM – 9:15 AM \nWhere: Startup Sioux Falls\, 100 E 6th Street\, Sioux Falls\, SD 57104 \nLearn more about Startup Sunrise here. \nThis Month’s Topic and Speakers:\nIn May\, we look forward to hosting AI Founders with facilitator Sami Zoss\, founder and owner of Zoss Collaborations\, and featured speakers Andy Jorgensen\, founder and owner of AiEdge\, and Andrea Smith\, founder and owner of Advise to Build. \nSBA Small Business Resource Fair:\nJoin us during Startup Sunrise for the SBA Small Business Resource Fair—a free event where South Dakota small business owners can connect with local Resource Partners to get support for starting\, growing\, or expanding their business. \nSchedule\n7:45 AM: Coffee + SBA Small Business Resource Fair \n8:00 AM: Hear from Mayor Paul TenHaken \n8:30 AM: Welcome performance by the featured artist \n8:35 AM: Founder Stories – Hear 3-minute presentations from two founders or business leaders\, followed by a facilitated conversation and audience Q&A. \n9:15 AM: Startup Sunrise concludes\, SBA Resource Fair continues\, FREE coworking begins (8am-5pm) \nTicket Information\nTickets are free\, but space is limited. Grab your free ticket on Eventbrite here. Hurry\, they go fast! \nWho should attend?\n\nFounders\, innovators\, community leaders\, and creatives.\nCommunity builders who want to contribute to the startup community.\nIndividuals who have experience in the industry or topic of the month\n\nWhy Attend?\nStartup Sunrise is your opportunity to kick-start your day with inspiration and connection. A little bit of what you can expect: \n\nInspiration from the stories of startup founders and engaging conversation.\nFace-to-face networking with like-minded people.\nA supportive environment willing to help you take your next step as a founder.\n\nAbout Sami Zoss and Zoss Collaborations \nSami Zoss\, founder of Zoss Collaborations\, is a seasoned executive with expertise in organizational development\, fundraising\, and operational management\, excelling in driving growth through financial stewardship\, process optimization\, and stakeholder engagement. With a proven track record in marketing communications and leadership\, she builds vibrant communities and fosters innovation while delivering mission-driven\, data-informed results. \nAbout Andy Jorgenson and AiEdge \nMeet Andy Jorgensen\, founder of AiEdge – a company dedicated to helping businesses leverage AI and automation to streamline operations and scale with confidence. With a background in sales\, business development\, and recruitment across industries like global recruiting and healthcare\, Andy brings deep expertise to every project. At AiEdge\, the goal is simple: integrate smart solutions so your team can focus on what they do best—growing the business. \nAbout Andrea Smith and Advise to Build \nAndrea Smith\, PMP\, MBA\, leverages over 20 years of leadership experience\, transitioning from Army officer to executive roles and co-founding thriving businesses rooted in community and industry connections. With expertise in engineering\, business\, and IT project management\, she balances her professional insights with a passion for work-life integration as a wife\, mother of five\, and devoted dog mom. \n\n\n\n\n\nEntry Instructions\n\n\n\n\nPlease enter from the east side of the building\, directly adjacent to the parking lot. \nIf an ADA accommodation is needed\, please contact the Startup Sioux Falls office at 605-275-8000. \nParking Instructions: \nFree and paid parking is available throughout the area. Please refer to this parking guide. \nSponsor\nThis event is made possible thanks to a sponsorship from The First National Bank in Sioux Falls. \nQuestions? Contact:\nJeff or Adyn \njeff@startupsiouxfalls.com / adyn@startupsiouxfalls.com
URL:https://www.startupsiouxfalls.com/event/startup-sunrise-ai/
LOCATION:Startup Sioux Falls\, 100 East 6th Street\, Sioux falls\, SD\, 57104\, United States
CATEGORIES:Startup Sioux Falls
ATTACH;FMTTYPE=image/png:https://www.startupsiouxfalls.com/wp-content/uploads/2024/12/May-7-3.png
END:VEVENT
END:VCALENDAR