BEGIN:VCALENDAR
VERSION:2.0
PRODID:-//Startup Sioux Falls - ECPv6.15.20//NONSGML v1.0//EN
CALSCALE:GREGORIAN
METHOD:PUBLISH
X-WR-CALNAME:Startup Sioux Falls
X-ORIGINAL-URL:https://www.startupsiouxfalls.com
X-WR-CALDESC:Events for Startup Sioux Falls
REFRESH-INTERVAL;VALUE=DURATION:PT1H
X-Robots-Tag:noindex
X-PUBLISHED-TTL:PT1H
BEGIN:VTIMEZONE
TZID:America/Chicago
BEGIN:DAYLIGHT
TZOFFSETFROM:-0600
TZOFFSETTO:-0500
TZNAME:CDT
DTSTART:20240310T080000
END:DAYLIGHT
BEGIN:STANDARD
TZOFFSETFROM:-0500
TZOFFSETTO:-0600
TZNAME:CST
DTSTART:20241103T070000
END:STANDARD
BEGIN:DAYLIGHT
TZOFFSETFROM:-0600
TZOFFSETTO:-0500
TZNAME:CDT
DTSTART:20250309T080000
END:DAYLIGHT
BEGIN:STANDARD
TZOFFSETFROM:-0500
TZOFFSETTO:-0600
TZNAME:CST
DTSTART:20251102T070000
END:STANDARD
BEGIN:DAYLIGHT
TZOFFSETFROM:-0600
TZOFFSETTO:-0500
TZNAME:CDT
DTSTART:20260308T080000
END:DAYLIGHT
BEGIN:STANDARD
TZOFFSETFROM:-0500
TZOFFSETTO:-0600
TZNAME:CST
DTSTART:20261101T070000
END:STANDARD
END:VTIMEZONE
BEGIN:VEVENT
DTSTART;TZID=America/Chicago:20250507T074500
DTEND;TZID=America/Chicago:20250507T100000
DTSTAMP:20260419T213607
CREATED:20241227T173136Z
LAST-MODIFIED:20250416T212700Z
UID:10001876-1746603900-1746612000@www.startupsiouxfalls.com
SUMMARY:Startup Sunrise - AI x SBA Small Business Resource Fair
DESCRIPTION:Join us for one of the best monthly entrepreneurial gatherings in Sioux Falls.\nStartup Sioux Falls invites you to a morning of inspiration and connection at our monthly event\, Startup Sunrise. Each month\, two startup founders or business leaders will briefly share their journey\, followed by a facilitated conversation. Startup Sunrise transforms early mornings into a vibrant environment to connect\, learn\, share ideas\, and problem-solve with the brightest minds in our community! \nWhen: Every first Wednesday of the month\, 8:00 AM – 9:15 AM \nWhere: Startup Sioux Falls\, 100 E 6th Street\, Sioux Falls\, SD 57104 \nLearn more about Startup Sunrise here. \nThis Month’s Topic and Speakers:\nIn May\, we look forward to hosting AI Founders with facilitator Sami Zoss\, founder and owner of Zoss Collaborations\, and featured speakers Andy Jorgensen\, founder and owner of AiEdge\, and Andrea Smith\, founder and owner of Advise to Build. \nSBA Small Business Resource Fair:\nJoin us during Startup Sunrise for the SBA Small Business Resource Fair—a free event where South Dakota small business owners can connect with local Resource Partners to get support for starting\, growing\, or expanding their business. \nSchedule\n7:45 AM: Coffee + SBA Small Business Resource Fair \n8:00 AM: Hear from Mayor Paul TenHaken \n8:30 AM: Welcome performance by the featured artist \n8:35 AM: Founder Stories – Hear 3-minute presentations from two founders or business leaders\, followed by a facilitated conversation and audience Q&A. \n9:15 AM: Startup Sunrise concludes\, SBA Resource Fair continues\, FREE coworking begins (8am-5pm) \nTicket Information\nTickets are free\, but space is limited. Grab your free ticket on Eventbrite here. Hurry\, they go fast! \nWho should attend?\n\nFounders\, innovators\, community leaders\, and creatives.\nCommunity builders who want to contribute to the startup community.\nIndividuals who have experience in the industry or topic of the month\n\nWhy Attend?\nStartup Sunrise is your opportunity to kick-start your day with inspiration and connection. A little bit of what you can expect: \n\nInspiration from the stories of startup founders and engaging conversation.\nFace-to-face networking with like-minded people.\nA supportive environment willing to help you take your next step as a founder.\n\nAbout Sami Zoss and Zoss Collaborations \nSami Zoss\, founder of Zoss Collaborations\, is a seasoned executive with expertise in organizational development\, fundraising\, and operational management\, excelling in driving growth through financial stewardship\, process optimization\, and stakeholder engagement. With a proven track record in marketing communications and leadership\, she builds vibrant communities and fosters innovation while delivering mission-driven\, data-informed results. \nAbout Andy Jorgenson and AiEdge \nMeet Andy Jorgensen\, founder of AiEdge – a company dedicated to helping businesses leverage AI and automation to streamline operations and scale with confidence. With a background in sales\, business development\, and recruitment across industries like global recruiting and healthcare\, Andy brings deep expertise to every project. At AiEdge\, the goal is simple: integrate smart solutions so your team can focus on what they do best—growing the business. \nAbout Andrea Smith and Advise to Build \nAndrea Smith\, PMP\, MBA\, leverages over 20 years of leadership experience\, transitioning from Army officer to executive roles and co-founding thriving businesses rooted in community and industry connections. With expertise in engineering\, business\, and IT project management\, she balances her professional insights with a passion for work-life integration as a wife\, mother of five\, and devoted dog mom. \n\n\n\n\n\nEntry Instructions\n\n\n\n\nPlease enter from the east side of the building\, directly adjacent to the parking lot. \nIf an ADA accommodation is needed\, please contact the Startup Sioux Falls office at 605-275-8000. \nParking Instructions: \nFree and paid parking is available throughout the area. Please refer to this parking guide. \nSponsor\nThis event is made possible thanks to a sponsorship from The First National Bank in Sioux Falls. \nQuestions? Contact:\nJeff or Adyn \njeff@startupsiouxfalls.com / adyn@startupsiouxfalls.com
URL:https://www.startupsiouxfalls.com/event/startup-sunrise-ai/
LOCATION:Startup Sioux Falls\, 100 East 6th Street\, Sioux falls\, SD\, 57104\, United States
CATEGORIES:Startup Sioux Falls
ATTACH;FMTTYPE=image/png:https://www.startupsiouxfalls.com/wp-content/uploads/2024/12/May-7-3.png
END:VEVENT
BEGIN:VEVENT
DTSTART;TZID=America/Chicago:20250506T130000
DTEND;TZID=America/Chicago:20250506T150000
DTSTAMP:20260419T213607
CREATED:20250320T190327Z
LAST-MODIFIED:20250320T190327Z
UID:10002241-1746536400-1746543600@www.startupsiouxfalls.com
SUMMARY:AI Learning Lab: 5 Things You Can and Should Be Doing With AI\, Right Now
DESCRIPTION:Date: 5/6/2025\nTime: 12:00 PM – 2:00 PM (MDT)\nRegistration Deadline: 5/6/2025 7:00 AM (MDT)\nFee: $45.00 Registration Policies \nPoint of Contact: Ashley Wingert (605) 642-6948 \nProgram Format: Online Meeting (Live)\nTraining Topics: Managing a Business\, Technology\nDescription: \n\nCurious about AI but not sure where to start?\n\nJoin us for an exciting\, hands-on AI Learning Lab where we’ll demystify artificial intelligence and show you five simple\, powerful ways to use it in your professional and personal life — no tech background required!\n\nIn this interactive\, hands-on session\, you’ll learn how AI can help you with:\n\nstreamlining your workflow\nsparking creativity\nmastering your time\n\nYou’ll walk away with practical tips and tools you can start using immediately to reclaim your time and boost your efficiency. Whether you’re a busy professional\, an entrepreneur\, or just AI-curious\, this lab will leave you inspired and empowered. Learn how to let AI do the heavy lifting for you!\n\nSign up now and take the first step toward an AI-powered\, more productive you!\n\n——\n\nRegistration Fee: $45\n\nEvent is virtual\n\n——\n\n\nMORE ABOUT NICK SALLER\n\nWorking with his father from the age of 11\, Nicholas Saller launched his first business at 15. He used that business and the lessons learned to help pay for college and grad school. The real-world experience has enabled him to transform struggling companies into million-dollar ventures. He has successfully executed turnarounds\, launched startups\, and even developed a software replacement that saved a company 6 figures. \nAdopting AI in 2014 for the first time\, he turned a previously unprofitable business unit into a profit-generating entity for the first time in its 70-year history. Currently\, he advises companies on growth and scale\, leveraging over 30 years of experience. More recently\, he has been deploying AI for countless use cases to help businesses\, which has led to speaking engagements on the topic of AI best practices in business and a recent college extension course teaching opportunity on the topic of AI Prompting. \nWhen not excited about building businesses and AI\, he can be found enjoying time with his lovely wife\, Lindsey\, their furry sidekicks\, Kita and Kaia\, and practicing martial arts in anticipation of a future life of crimefighting.
URL:https://www.startupsiouxfalls.com/event/ai-learning-lab-5-things-you-can-and-should-be-doing-with-ai-right-now/
LOCATION:Online\, online
ATTACH;FMTTYPE=image/png:https://www.startupsiouxfalls.com/wp-content/uploads/2025/03/sdceo2.png
END:VEVENT
BEGIN:VEVENT
DTSTART;TZID=America/Chicago:20250502T120000
DTEND;TZID=America/Chicago:20250502T130000
DTSTAMP:20260419T213607
CREATED:20241206T160851Z
LAST-MODIFIED:20250619T183156Z
UID:10001799-1746187200-1746190800@www.startupsiouxfalls.com
SUMMARY:Women's Well-Being Walking Group
DESCRIPTION:Join us for a monthly walk and talk to build connection amongst women in business and women business owners. Get outside and move your body with a supportive community. We will meet at Startup Sioux Falls on the first Friday of the month at 12pm. Feel free to stay as long as you are able and dress for the weather.
URL:https://www.startupsiouxfalls.com/event/womens-well-being-walking-group-2/2025-05-02/
LOCATION:Startup Sioux Falls\, 100 East 6th Street\, Sioux falls\, SD\, 57104\, United States
ATTACH;FMTTYPE=image/png:https://www.startupsiouxfalls.com/wp-content/uploads/2024/12/Well-being-Womens-Walking.png
END:VEVENT
BEGIN:VEVENT
DTSTART;TZID=America/Chicago:20250501T163000
DTEND;TZID=America/Chicago:20250501T180000
DTSTAMP:20260419T213607
CREATED:20240531T172104Z
LAST-MODIFIED:20250530T180125Z
UID:10001369-1746117000-1746122400@www.startupsiouxfalls.com
SUMMARY:AI Skills & Innovation Meetup
DESCRIPTION:Sign up HERE. \nThe AI Skills Building Meetup is a monthly gathering of entrepreneurs and business leaders who want to go beyond the hype and headlines. Artificial Intelligence (AI) is in the wild. This Startup Sioux Falls Meetup is your opportunity to learn\, discuss\, discover\, and build. It is a time and place to share what you’re working on\, play with new tools\, and understand AI’s potential and peril. No prior knowledge is needed. The meetup is meant to provide enough structure for you to begin your exploration and develop your skill set. \nGeneral Schedule: \n4:30-5:15 pm – Structured content (show and tell\, knowledge sharing\, etc.) \n5:15-6:00 pm – Work-along with other participants in small groups \nA couple Startup Sioux Falls members who are AI enthusiasts will lead this group. \nEntry Instructions: \nPlease enter the building from Door 1\, which is located on Phillips Avenue. ADA accessibility is available at Door 2 on the east side of the building\, but please call 605-275-8000 if you need further assistance. \nParking Instructions: \nFree and paid parking is available throughout the area. Please refer to this parking guide. \nSign up HERE.
URL:https://www.startupsiouxfalls.com/event/ai-skills-innovation-meetup/2025-05-01/
LOCATION:Startup Sioux Falls\, 100 East 6th Street\, Sioux falls\, SD\, 57104\, United States
ATTACH;FMTTYPE=image/png:https://www.startupsiouxfalls.com/wp-content/uploads/2023/07/image1.png
END:VEVENT
BEGIN:VEVENT
DTSTART;TZID=America/Chicago:20250501T090000
DTEND;TZID=America/Chicago:20250501T100000
DTSTAMP:20260419T213607
CREATED:20240531T171800Z
LAST-MODIFIED:20250501T145505Z
UID:10001358-1746090000-1746093600@www.startupsiouxfalls.com
SUMMARY:Business Owner Moms Meetup
DESCRIPTION:Sign up HERE. \nThis group is for existing mom business owners at any stage in business. \nThe purpose of the group is to provide both emotional and business support for each other\, because growing a business while being a mom can be overwhelming and lonely… BUT it can also be extremely fulfilling and a great example for our families. \nPlease come and encourage each other forward! \nGeneral Schedule\n__________________\n9-9:15 – Intros & wins\n9:15-9:25 – Brain dump biggest challenges\n9:25-10:00 – Work through each challenge or most important ones first \nA couple Startup Sioux Falls members who are business owner moms will be helping run this group at the Startup space downtown. \nDirections:\nPlease enter in Door 1 off of Phillips Ave. and a staff member can direct you to the correct room. \nParking:\nThere is limited free parking behind the building and 2 hour parking in front of the Jones building on Phillips Ave. \nSee you there! \nSign up HERE.
URL:https://www.startupsiouxfalls.com/event/business-owner-moms-meetup-2/2025-05-01/
LOCATION:Startup Sioux Falls\, 100 East 6th Street\, Sioux falls\, SD\, 57104\, United States
ATTACH;FMTTYPE=image/png:https://www.startupsiouxfalls.com/wp-content/uploads/2023/04/business-owner-moms-meetup.png
END:VEVENT
BEGIN:VEVENT
DTSTART;TZID=America/Chicago:20250501T080000
DTEND;TZID=America/Chicago:20250501T093000
DTSTAMP:20260419T213607
CREATED:20240531T172339Z
LAST-MODIFIED:20240531T172339Z
UID:10001394-1746086400-1746091800@www.startupsiouxfalls.com
SUMMARY:Coffee N Connections
DESCRIPTION:What is Coffee N Connections? \nIf you are a woman\, you are invited to join us for coffee and connections. Coffee N Connections is a bi-weekly gathering designed to create a nurturing and empowering environment for women entrepreneurs and business owners.  \nThis event allows like-minded women to connect\, collaborate\, and foster professional and personal relationships. It is dedicated to providing support\, encouragement\, and empowerment\, aiming to facilitate the exchange of ideas\, experiences\, and opportunities amongst women in business. Please join us at Jones421 (421 N Phillips Ave) any time between 8 and 9:30.Up-to-date event information can be found on theFresh Impact Facebook page.
URL:https://www.startupsiouxfalls.com/event/coffee-n-connections-2/2025-05-01/
LOCATION:Jones421\, 421 North Phillips Avenue\, Sioux Falls
ATTACH;FMTTYPE=image/jpeg:https://www.startupsiouxfalls.com/wp-content/uploads/2019/11/coffee.jpg
END:VEVENT
BEGIN:VEVENT
DTSTART;TZID=America/Chicago:20250430T090000
DTEND;TZID=America/Chicago:20250430T153000
DTSTAMP:20260419T213607
CREATED:20250407T155130Z
LAST-MODIFIED:20250407T155130Z
UID:10002248-1746003600-1746027000@www.startupsiouxfalls.com
SUMMARY:Supply Chain Symposium
DESCRIPTION:EventBrite Page \nWelcome to the Supply Chain Symposium! Join us at The Lab in The Steel District on Wed Apr 30 2025 at 9:00 AM for a day filled with insightful discussions\, networking opportunities\, and industry trends. This event is perfect for anyone interested in learning more about supply chain management and connecting with professionals in the field. Don’t miss out on this chance to expand your knowledge and grow your network! \n\n\n8:30 AM – 9:00 AM – Registration & Networking \n\n\n\n\n9:00 AM – 9:15 AM – Welcome & Opening Remarks \n\n\n\n\n9:15 AM – 10:00 AM – Panel: Tariffs – Common Misconceptions \n\n\n\n\n10:00 AM – 10:45 AM – The Future of Manufacturing & Technology \n\n\n\n\n10:45 AM – 11:00 AM – Networking Break \n\n\n\n\n11:00 AM – 12:00 PM – CBC Presentation – Mapping the Future: Visualizing SD Supply Chains \n\n\n\n\n12:00 PM – 12:30 PM – Networking Lunch \n\n\n\n\n12:30 PM – 1:00 PM – South Dakota Trade: STEP Grant and Trade Missions \n\n\n\n\n1:00 PM – 1:45 PM – From Data Chaos to Clarity: Strategic Insights to Strengthen Supply Chains \n\n\n\n\n1:45 PM – 2:00 PM – Networking Break \n\n\n\n\n2:00 PM – 2:30 PM – South Dakota Resource Partners-A Fireside Chat \n\n\n\n\n2:30 PM – 3:30 PM – Supply Chain Resilience & Sustainability Strategies \n\n\n 
URL:https://www.startupsiouxfalls.com/event/supply-chain-symposium/
LOCATION:The Lab – The Steel District\, 505 North Metli Place\, Sioux Falls\, 57104\, United States
ATTACH;FMTTYPE=image/avif:https://www.startupsiouxfalls.com/wp-content/uploads/2025/04/https___cdn.evbuc_.com_images_993446163_1379377360873_1_original.avif
END:VEVENT
BEGIN:VEVENT
DTSTART;TZID=America/Chicago:20250425T170000
DTEND;TZID=America/Chicago:20250425T200000
DTSTAMP:20260419T213607
CREATED:20250128T165556Z
LAST-MODIFIED:20250128T165556Z
UID:10002138-1745600400-1745611200@www.startupsiouxfalls.com
SUMMARY:ArtAbility Art Exhibit
DESCRIPTION:Hosted by\nThe Mayor’s\nDisability Awareness & Accessibility Review Board\n(DAARB) \nLive music and light refreshments.\nWorks available for purchase.\nArtists accept cash\, check or Venmo. \nThere will be a sensory friendly viewing time from 12 to 3 p.m. that day. \nEntry deadline:\nFriday\, April 4\, 2025 at 11:59 p.m. \nAll entries must be submitted online. \nDrop off deadline:\nFriday April 18\, 2025\, at 5 p.m.\n(Artwork must be dropped off at Rehfeld’s) \nRetrieval:\nPick up work by 8 p.m. following the event that evening – artists are responsible for taking home their art after the event
URL:https://www.startupsiouxfalls.com/event/artability-art-exhibit/
LOCATION:The Underground at Rehfeld’s\, 431 N Phillips Ave\, Sioux Falls\, 57104\, United States
ATTACH;FMTTYPE=image/jpeg:https://www.startupsiouxfalls.com/wp-content/uploads/2025/01/Facebook-Event-Cover.jpg
ORGANIZER;CN="DAARB City of Sioux Falls":MAILTO:human.relations@siouxfalls.gov
END:VEVENT
BEGIN:VEVENT
DTSTART;TZID=America/Chicago:20250425T120000
DTEND;TZID=America/Chicago:20250425T170000
DTSTAMP:20260419T213607
CREATED:20250414T140158Z
LAST-MODIFIED:20250414T140158Z
UID:10002250-1745582400-1745600400@www.startupsiouxfalls.com
SUMMARY:Myer-Hall Machine Works New Facility Ribbon Cutting
DESCRIPTION:Myer-Hall Machine Works-Hall is thrilled to announce the grand opening of its brand-new facility in Canton\, SD! While Jeremy Myer represents the team at #QuickbaseEmpower2025\, Erik Hall has been putting the final touches on the new space. \nJoin them on Friday\, April 25 from 12–5 PM at 414 W. Industrial Road for an open house and ribbon cutting. This marks a significant milestone as Myer-Hall continues to deliver custom solutions for the Midwest manufacturing community. All clients\, partners\, and community members are welcome!
URL:https://www.startupsiouxfalls.com/event/myer-hall-machine-works-new-facility-ribbon-cutting/
LOCATION:414 W. Industrial Road\, 414 W. Industrial Road\, Canton\, SD\, 57013\, United States
ATTACH;FMTTYPE=image/png:https://www.startupsiouxfalls.com/wp-content/uploads/2025/04/grand.png
END:VEVENT
END:VCALENDAR