BEGIN:VCALENDAR
VERSION:2.0
PRODID:-//Startup Sioux Falls - ECPv6.15.20//NONSGML v1.0//EN
CALSCALE:GREGORIAN
METHOD:PUBLISH
X-WR-CALNAME:Startup Sioux Falls
X-ORIGINAL-URL:https://www.startupsiouxfalls.com
X-WR-CALDESC:Events for Startup Sioux Falls
REFRESH-INTERVAL;VALUE=DURATION:PT1H
X-Robots-Tag:noindex
X-PUBLISHED-TTL:PT1H
BEGIN:VTIMEZONE
TZID:America/Chicago
BEGIN:DAYLIGHT
TZOFFSETFROM:-0600
TZOFFSETTO:-0500
TZNAME:CDT
DTSTART:20240310T080000
END:DAYLIGHT
BEGIN:STANDARD
TZOFFSETFROM:-0500
TZOFFSETTO:-0600
TZNAME:CST
DTSTART:20241103T070000
END:STANDARD
BEGIN:DAYLIGHT
TZOFFSETFROM:-0600
TZOFFSETTO:-0500
TZNAME:CDT
DTSTART:20250309T080000
END:DAYLIGHT
BEGIN:STANDARD
TZOFFSETFROM:-0500
TZOFFSETTO:-0600
TZNAME:CST
DTSTART:20251102T070000
END:STANDARD
BEGIN:DAYLIGHT
TZOFFSETFROM:-0600
TZOFFSETTO:-0500
TZNAME:CDT
DTSTART:20260308T080000
END:DAYLIGHT
BEGIN:STANDARD
TZOFFSETFROM:-0500
TZOFFSETTO:-0600
TZNAME:CST
DTSTART:20261101T070000
END:STANDARD
END:VTIMEZONE
BEGIN:VEVENT
DTSTART;TZID=America/Chicago:20250425T170000
DTEND;TZID=America/Chicago:20250425T200000
DTSTAMP:20260419T232025
CREATED:20250128T165556Z
LAST-MODIFIED:20250128T165556Z
UID:10002138-1745600400-1745611200@www.startupsiouxfalls.com
SUMMARY:ArtAbility Art Exhibit
DESCRIPTION:Hosted by\nThe Mayor’s\nDisability Awareness & Accessibility Review Board\n(DAARB) \nLive music and light refreshments.\nWorks available for purchase.\nArtists accept cash\, check or Venmo. \nThere will be a sensory friendly viewing time from 12 to 3 p.m. that day. \nEntry deadline:\nFriday\, April 4\, 2025 at 11:59 p.m. \nAll entries must be submitted online. \nDrop off deadline:\nFriday April 18\, 2025\, at 5 p.m.\n(Artwork must be dropped off at Rehfeld’s) \nRetrieval:\nPick up work by 8 p.m. following the event that evening – artists are responsible for taking home their art after the event
URL:https://www.startupsiouxfalls.com/event/artability-art-exhibit/
LOCATION:The Underground at Rehfeld’s\, 431 N Phillips Ave\, Sioux Falls\, 57104\, United States
ATTACH;FMTTYPE=image/jpeg:https://www.startupsiouxfalls.com/wp-content/uploads/2025/01/Facebook-Event-Cover.jpg
ORGANIZER;CN="DAARB City of Sioux Falls":MAILTO:human.relations@siouxfalls.gov
END:VEVENT
BEGIN:VEVENT
DTSTART;TZID=America/Chicago:20250425T120000
DTEND;TZID=America/Chicago:20250425T170000
DTSTAMP:20260419T232025
CREATED:20250414T140158Z
LAST-MODIFIED:20250414T140158Z
UID:10002250-1745582400-1745600400@www.startupsiouxfalls.com
SUMMARY:Myer-Hall Machine Works New Facility Ribbon Cutting
DESCRIPTION:Myer-Hall Machine Works-Hall is thrilled to announce the grand opening of its brand-new facility in Canton\, SD! While Jeremy Myer represents the team at #QuickbaseEmpower2025\, Erik Hall has been putting the final touches on the new space. \nJoin them on Friday\, April 25 from 12–5 PM at 414 W. Industrial Road for an open house and ribbon cutting. This marks a significant milestone as Myer-Hall continues to deliver custom solutions for the Midwest manufacturing community. All clients\, partners\, and community members are welcome!
URL:https://www.startupsiouxfalls.com/event/myer-hall-machine-works-new-facility-ribbon-cutting/
LOCATION:414 W. Industrial Road\, 414 W. Industrial Road\, Canton\, SD\, 57013\, United States
ATTACH;FMTTYPE=image/png:https://www.startupsiouxfalls.com/wp-content/uploads/2025/04/grand.png
END:VEVENT
END:VCALENDAR