BEGIN:VCALENDAR
VERSION:2.0
PRODID:-//Startup Sioux Falls - ECPv6.15.20//NONSGML v1.0//EN
CALSCALE:GREGORIAN
METHOD:PUBLISH
X-WR-CALNAME:Startup Sioux Falls
X-ORIGINAL-URL:https://www.startupsiouxfalls.com
X-WR-CALDESC:Events for Startup Sioux Falls
REFRESH-INTERVAL;VALUE=DURATION:PT1H
X-Robots-Tag:noindex
X-PUBLISHED-TTL:PT1H
BEGIN:VTIMEZONE
TZID:America/Chicago
BEGIN:DAYLIGHT
TZOFFSETFROM:-0600
TZOFFSETTO:-0500
TZNAME:CDT
DTSTART:20240310T080000
END:DAYLIGHT
BEGIN:STANDARD
TZOFFSETFROM:-0500
TZOFFSETTO:-0600
TZNAME:CST
DTSTART:20241103T070000
END:STANDARD
BEGIN:DAYLIGHT
TZOFFSETFROM:-0600
TZOFFSETTO:-0500
TZNAME:CDT
DTSTART:20250309T080000
END:DAYLIGHT
BEGIN:STANDARD
TZOFFSETFROM:-0500
TZOFFSETTO:-0600
TZNAME:CST
DTSTART:20251102T070000
END:STANDARD
BEGIN:DAYLIGHT
TZOFFSETFROM:-0600
TZOFFSETTO:-0500
TZNAME:CDT
DTSTART:20260308T080000
END:DAYLIGHT
BEGIN:STANDARD
TZOFFSETFROM:-0500
TZOFFSETTO:-0600
TZNAME:CST
DTSTART:20261101T070000
END:STANDARD
END:VTIMEZONE
BEGIN:VEVENT
DTSTART;TZID=America/Chicago:20250605T170000
DTEND;TZID=America/Chicago:20250605T183000
DTSTAMP:20260423T184842
CREATED:20250604T153959Z
LAST-MODIFIED:20250604T153959Z
UID:10002570-1749142800-1749148200@www.startupsiouxfalls.com
SUMMARY:South Dakota Biotech Mixer
DESCRIPTION:Connect with South Dakota Biotech members and industry professionals at  Startup Sioux Falls. Enjoy drinks\, appetizers\, and lively conversations with your peers. \nThis is an excellent opportunity to network with industry professionals\, exchange valuable ideas\, and foster meaningful relationships within the biotech community. Whether you’re looking to collaborate\, learn from others\, or expand your professional circle\, this event offers the perfect setting to build lasting connections and grow your network. \nWe hope to see you there! \nThursday\, June 5 • 5:00 – 6:30 PM \n\n\nLocation: StartUp Sioux Falls\n100 East 6th Street • Sioux Falls\nNOTE ON PARKING: Parking in the Startup Sioux Falls lot will be unavailable after 5:00 p.m. for this Mixer due to a Levitt at the Falls event. \nWe recommend using nearby street parking or referring to the parking map for evening visits. Some metered spots downtown are free after 5 p.m.\, but be sure to check signage. Enjoy the Mixer then some music at the Levitt! \nRSVP here!
URL:https://www.startupsiouxfalls.com/event/biotech-mixer-2/
LOCATION:Startup Sioux Falls\, 100 East 6th Street\, Sioux falls\, SD\, 57104\, United States
ATTACH;FMTTYPE=image/jpeg:https://www.startupsiouxfalls.com/wp-content/uploads/2025/06/unnamed-1.jpg
ORGANIZER;CN="South Dakota Biotech":MAILTO:jjohnson@sdbio.org
END:VEVENT
END:VCALENDAR