BEGIN:VCALENDAR
VERSION:2.0
PRODID:-//Startup Sioux Falls - ECPv6.15.20//NONSGML v1.0//EN
CALSCALE:GREGORIAN
METHOD:PUBLISH
X-WR-CALNAME:Startup Sioux Falls
X-ORIGINAL-URL:https://www.startupsiouxfalls.com
X-WR-CALDESC:Events for Startup Sioux Falls
REFRESH-INTERVAL;VALUE=DURATION:PT1H
X-Robots-Tag:noindex
X-PUBLISHED-TTL:PT1H
BEGIN:VTIMEZONE
TZID:America/Chicago
BEGIN:DAYLIGHT
TZOFFSETFROM:-0600
TZOFFSETTO:-0500
TZNAME:CDT
DTSTART:20240310T080000
END:DAYLIGHT
BEGIN:STANDARD
TZOFFSETFROM:-0500
TZOFFSETTO:-0600
TZNAME:CST
DTSTART:20241103T070000
END:STANDARD
BEGIN:DAYLIGHT
TZOFFSETFROM:-0600
TZOFFSETTO:-0500
TZNAME:CDT
DTSTART:20250309T080000
END:DAYLIGHT
BEGIN:STANDARD
TZOFFSETFROM:-0500
TZOFFSETTO:-0600
TZNAME:CST
DTSTART:20251102T070000
END:STANDARD
BEGIN:DAYLIGHT
TZOFFSETFROM:-0600
TZOFFSETTO:-0500
TZNAME:CDT
DTSTART:20260308T080000
END:DAYLIGHT
BEGIN:STANDARD
TZOFFSETFROM:-0500
TZOFFSETTO:-0600
TZNAME:CST
DTSTART:20261101T070000
END:STANDARD
END:VTIMEZONE
BEGIN:VEVENT
DTSTART;TZID=America/Chicago:20251119T120000
DTEND;TZID=America/Chicago:20251119T130000
DTSTAMP:20260422T214922
CREATED:20250814T181608Z
LAST-MODIFIED:20251009T175038Z
UID:10002700-1763553600-1763557200@www.startupsiouxfalls.com
SUMMARY:Startup Skills Workshop: Smart Marketing for Small Businesses
DESCRIPTION:RSVP Here! \nSession Description:\nDiscover how to make social media work for your small business in this practical session led by Tanna Soukup and Sara Lum of Strategie. Learn how to choose the right platforms\, use AI the right way\, and keep your brand consistent with tools like Canva. Walk away with actionable tips to boost your online presence\, no big budget required! \nWho Should Attend:\nIf you’re the one posting\, planning\, or promoting your business online\, this session is for you. Whether you’re just getting started or looking to tighten up your brand across platforms\, you’ll walk away with tips to help your social media feel more consistent and intentional. \nAbout the Facilitators:\nTanna Soukup & Sara Lum\, Co-Owners of Strategie LLC\nTanna\, Founder of Strategie\, is a seasoned marketing professional who built a successful women’s boutique and mastered brand and customer engagement for nearly a decade. She later applied her expertise in healthcare as a Project Manager and Marketing Director\, where she drove growth through strategic initiatives. Today\, she leads Strategie with a focus on delivering thoughtful\, high-impact marketing solutions while cultivating genuine connections with clients. \nSara\, Creative Partner\, brings a unique blend of design expertise\, marketing strategy\, and architectural training to her work. Formerly Vice President at Startup Sioux Falls\, she is known for her ability to align creative vision with business objectives while fostering authentic relationships and team culture. She now applies her cross-disciplinary background to help businesses develop creative strategies that balance strong design with measurable business outcomes.\nTogether\, Tanna and Sara combine their diverse backgrounds and shared passion for excellence to provide personalized marketing strategies that empower clients and strengthen communities. \nLunch:\nFree\, limited lunches will be available on a first come\, first serve basis. \nSpots fill quickly—don’t miss out on this opportunity to align your brand voice and visuals for more confident content.
URL:https://www.startupsiouxfalls.com/event/startup-skills-workshop-smart-marketing-for-small-businesses/
LOCATION:Startup Sioux Falls\, 100 East 6th Street\, Sioux falls\, SD\, 57104\, United States
ATTACH;FMTTYPE=image/png:https://www.startupsiouxfalls.com/wp-content/uploads/2025/08/November-2.png
END:VEVENT
END:VCALENDAR