BEGIN:VCALENDAR
VERSION:2.0
PRODID:-//Startup Sioux Falls - ECPv6.15.20//NONSGML v1.0//EN
CALSCALE:GREGORIAN
METHOD:PUBLISH
X-ORIGINAL-URL:https://www.startupsiouxfalls.com
X-WR-CALDESC:Events for Startup Sioux Falls
REFRESH-INTERVAL;VALUE=DURATION:PT1H
X-Robots-Tag:noindex
X-PUBLISHED-TTL:PT1H
BEGIN:VTIMEZONE
TZID:America/Chicago
BEGIN:DAYLIGHT
TZOFFSETFROM:-0600
TZOFFSETTO:-0500
TZNAME:CDT
DTSTART:20240310T080000
END:DAYLIGHT
BEGIN:STANDARD
TZOFFSETFROM:-0500
TZOFFSETTO:-0600
TZNAME:CST
DTSTART:20241103T070000
END:STANDARD
BEGIN:DAYLIGHT
TZOFFSETFROM:-0600
TZOFFSETTO:-0500
TZNAME:CDT
DTSTART:20250309T080000
END:DAYLIGHT
BEGIN:STANDARD
TZOFFSETFROM:-0500
TZOFFSETTO:-0600
TZNAME:CST
DTSTART:20251102T070000
END:STANDARD
BEGIN:DAYLIGHT
TZOFFSETFROM:-0600
TZOFFSETTO:-0500
TZNAME:CDT
DTSTART:20260308T080000
END:DAYLIGHT
BEGIN:STANDARD
TZOFFSETFROM:-0500
TZOFFSETTO:-0600
TZNAME:CST
DTSTART:20261101T070000
END:STANDARD
END:VTIMEZONE
BEGIN:VEVENT
DTSTART;TZID=America/Chicago:20250826T083000
DTEND;TZID=America/Chicago:20250826T163000
DTSTAMP:20260419T161259
CREATED:20250612T193341Z
LAST-MODIFIED:20250707T165149Z
UID:10002572-1756197000-1756225800@www.startupsiouxfalls.com
SUMMARY:Flyover Festival
DESCRIPTION:Your Flyover Festival journey starts here. Reserve your seat today!\nOur first two Flyover Festivals set the bar high—and this year\, we’re taking it even higher!  \nThis August 26\, all roads (and flight paths) lead straight to Sioux Falls\, South Dakota\, for the third annual Employee Comms & Culture Flyover Festival. \n​Why Sioux Falls? Because sometimes the best experiences are found in the unexpected places! \n​This year’s festival isn’t your average communications conference. It’s a full-day celebration that blends the spirit of a lively gathering with insightful conversations and creative interactions. Attendees are encouraged to sport their favorite concert tees\, setting the stage for breakthrough ideas\, engaging discussions\, and hands-on workshops tailored especially for internal communicators. \n​Whether you’re a seasoned internal comms professional or just passionate about building better workplace cultures\, you’ll find your crowd here. Expect lively discussions\, interactive breakout sessions\, unique networking opportunities\, and maybe even a little live music. \n​Pack your enthusiasm\, bring your favorite colleagues\, and get ready to rock your internal comms strategy in ways you’ve never imagined. \n​Make Sioux Falls your destination for communication inspiration this August—we can’t wait to welcome you! \nGrab Tickets Here!
URL:https://www.startupsiouxfalls.com/event/copilot-for-comms-putting-communicators-in-ais-pilot-seat/
LOCATION:Startup Sioux Falls\, 100 East 6th Street\, Sioux falls\, SD\, 57104\, United States
ATTACH;FMTTYPE=image/png:https://www.startupsiouxfalls.com/wp-content/uploads/2025/06/download-2.png
END:VEVENT
END:VCALENDAR