BEGIN:VCALENDAR
VERSION:2.0
PRODID:-//Startup Sioux Falls - ECPv6.15.20//NONSGML v1.0//EN
CALSCALE:GREGORIAN
METHOD:PUBLISH
X-ORIGINAL-URL:https://www.startupsiouxfalls.com
X-WR-CALDESC:Events for Startup Sioux Falls
REFRESH-INTERVAL;VALUE=DURATION:PT1H
X-Robots-Tag:noindex
X-PUBLISHED-TTL:PT1H
BEGIN:VTIMEZONE
TZID:America/Chicago
BEGIN:DAYLIGHT
TZOFFSETFROM:-0600
TZOFFSETTO:-0500
TZNAME:CDT
DTSTART:20240310T080000
END:DAYLIGHT
BEGIN:STANDARD
TZOFFSETFROM:-0500
TZOFFSETTO:-0600
TZNAME:CST
DTSTART:20241103T070000
END:STANDARD
BEGIN:DAYLIGHT
TZOFFSETFROM:-0600
TZOFFSETTO:-0500
TZNAME:CDT
DTSTART:20250309T080000
END:DAYLIGHT
BEGIN:STANDARD
TZOFFSETFROM:-0500
TZOFFSETTO:-0600
TZNAME:CST
DTSTART:20251102T070000
END:STANDARD
BEGIN:DAYLIGHT
TZOFFSETFROM:-0600
TZOFFSETTO:-0500
TZNAME:CDT
DTSTART:20260308T080000
END:DAYLIGHT
BEGIN:STANDARD
TZOFFSETFROM:-0500
TZOFFSETTO:-0600
TZNAME:CST
DTSTART:20261101T070000
END:STANDARD
END:VTIMEZONE
BEGIN:VEVENT
DTSTART;TZID=America/Chicago:20250924T090000
DTEND;TZID=America/Chicago:20250924T150000
DTSTAMP:20260419T113318
CREATED:20250730T191855Z
LAST-MODIFIED:20250730T191855Z
UID:10002631-1758704400-1758726000@www.startupsiouxfalls.com
SUMMARY:2025 Technology and Entrepreneurship Summit
DESCRIPTION:Join us for our third Technology and Entrepreneurship Summit\, where industry leaders\, innovators\, students\, and aspiring entrepreneurs converge for a dynamic event focused on the intersection of technology and entrepreneurship\, featuring insightful discussions\, networking opportunities\, and the opportunity to learn from tech experts and successful entrepreneurs!
URL:https://www.startupsiouxfalls.com/event/2025-technology-and-entrepreneurship-summit/
LOCATION:Johnson Fine Arts Center\, Northern State University\, Aberdeen\, SD\, 1200 South Jay\, Aberdeen\, SD\, 57401\, United States
ATTACH;FMTTYPE=image/jpeg:https://www.startupsiouxfalls.com/wp-content/uploads/2025/07/2025-Summit-Fliers.jpg
ORGANIZER;CN="Northern Innovation &amp%3B Startup Center":MAILTO:startup@northern.edu
END:VEVENT
END:VCALENDAR