BEGIN:VCALENDAR
VERSION:2.0
PRODID:-//Startup Sioux Falls - ECPv6.15.20//NONSGML v1.0//EN
CALSCALE:GREGORIAN
METHOD:PUBLISH
X-WR-CALNAME:Startup Sioux Falls
X-ORIGINAL-URL:https://www.startupsiouxfalls.com
X-WR-CALDESC:Events for Startup Sioux Falls
REFRESH-INTERVAL;VALUE=DURATION:PT1H
X-Robots-Tag:noindex
X-PUBLISHED-TTL:PT1H
BEGIN:VTIMEZONE
TZID:America/Chicago
BEGIN:DAYLIGHT
TZOFFSETFROM:-0600
TZOFFSETTO:-0500
TZNAME:CDT
DTSTART:20240310T080000
END:DAYLIGHT
BEGIN:STANDARD
TZOFFSETFROM:-0500
TZOFFSETTO:-0600
TZNAME:CST
DTSTART:20241103T070000
END:STANDARD
BEGIN:DAYLIGHT
TZOFFSETFROM:-0600
TZOFFSETTO:-0500
TZNAME:CDT
DTSTART:20250309T080000
END:DAYLIGHT
BEGIN:STANDARD
TZOFFSETFROM:-0500
TZOFFSETTO:-0600
TZNAME:CST
DTSTART:20251102T070000
END:STANDARD
BEGIN:DAYLIGHT
TZOFFSETFROM:-0600
TZOFFSETTO:-0500
TZNAME:CDT
DTSTART:20260308T080000
END:DAYLIGHT
BEGIN:STANDARD
TZOFFSETFROM:-0500
TZOFFSETTO:-0600
TZNAME:CST
DTSTART:20261101T070000
END:STANDARD
END:VTIMEZONE
BEGIN:VEVENT
DTSTART;TZID=America/Chicago:20250903T080000
DTEND;TZID=America/Chicago:20250903T091500
DTSTAMP:20260419T133021
CREATED:20250814T185808Z
LAST-MODIFIED:20250828T143727Z
UID:10002703-1756886400-1756890900@www.startupsiouxfalls.com
SUMMARY:Startup Sunrise: Co-Founders
DESCRIPTION:RSVP HERE! \nJoin us at Startup Sunrise\, where early risers in the startup world come together to network and ignite their entrepreneurial journey! \nWHEN: Every first Wednesday of the month\, 8:00 AM – 9:15 AM \nWHERE: Startup Sioux Falls\, 100 E 6th Street\, Sioux Falls\, SD 57104 \nStartup Sioux Falls invites you to a morning of inspiration and connection at our monthly event\, Startup Sunrise. Each month\, two startup founders or business leaders will briefly share their journey\, followed by a facilitated conversation. Startup Sunrise transforms early mornings into a vibrant environment to connect\, learn\, share ideas\, and problem solve with the brightest minds in our community! \nTHIS MONTH’S TOPIC & SPEAKERS\nIn September\, we’re excited to host Startup Sunrise: Co-Founders\, featuring Alana & John Snyder\, founders of 605 Magazine\, and Alicia Schumacher & Beth Jensen\, founders of Bold Identity Studio\, with Sadie Swier of SDCEO East serving as emcee. \nSCHEDULE\n8:00 AM: Coffee – Connect over coffee by The Source.\n8:30 AM: Welcome performance by the featured artist.\n8:35 AM: Founder Stories – Hear 3-minute presentations from two founders or business leaders\, followed by a conversation.\n9:15 AM: Event concludes\, but FREE coworking begins (8AM – 5PM) \nWHO SHOULD ATTEND? \n\nFounders\, innovators\, community leaders\, and creatives who want to support each other and network\nCommunity builders who want to be involved in contributing to the startup community\nIndividuals that have experience in the industry or topic of the month\n\nWHY ATTEND?\nStartup Sunrise is your opportunity to kick-start your day with a punch of inspiration and a side of connection. A little bit of what you can expect: \n\nBe inspired by the stories of startup founders and engage in conversations that move our community forward.\nFace-to-face networking with like-minded people\nA supportive environment willing to help you take your next step as a founder\n\nABOUT THE SPEAKERS\nAlana & John Snyder\, 605 Magazine\nAlana and John Snyder co-founded the award-winning 605 Magazine—a publication and website that showcases the people and places of South Dakota. After over a decade of storytelling and producing photos and videos\, the pair started 605 Creative Co.\, which is a boutique creative agency. The 605 brand also grew with vacation rentals in Sioux Falls and the Black Hills\, The 605 Show podcast\, and the 605 Summer Classic—a South Dakota beer and music festival that ran until 2023. \nAlicia Schumacher & Beth Jensen\, Bold Identity Studio\nAlicia Schumacher and Beth Jensen are the co-founders of Bold Identity Studio\, where they help women build personal brands rooted in confidence\, clarity\, and authenticity. Alicia brings nearly 20 years of experience in marketing and leadership\, while Beth offers over three decades in journalism and storytelling—including leading the largest newsroom in South Dakota. Together\, they empower women to own their message\, elevate their voice\, and show up boldly in both life and business. \nRSVP HERE! \nENTRY INSTRUCTIONS\nPlease enter the building from on the east side of the building\, directly adjacent to the parking lot. \nIf an ADA accommodation is needed\, please contact the Startup Sioux Falls office at 605-275-8000. \nPARKING INSTRUCTIONS\nFree and paid parking is available throughout the area. Please refer to this parking guide. \nSPONSORS\nWe’d like to thank our Startup Sunrise Sponsor\, First National Bank in Sioux Falls\, for making this event possible. \nCONTACT\nadyn@startupsiouxfalls.com
URL:https://www.startupsiouxfalls.com/event/startup-sunrise-co-founders/
LOCATION:Startup Sioux Falls\, 100 East 6th Street\, Sioux falls\, SD\, 57104\, United States
ATTACH;FMTTYPE=image/png:https://www.startupsiouxfalls.com/wp-content/uploads/2025/08/September-3-1.png
END:VEVENT
END:VCALENDAR