BEGIN:VCALENDAR
VERSION:2.0
PRODID:-//Startup Sioux Falls - ECPv6.15.20//NONSGML v1.0//EN
CALSCALE:GREGORIAN
METHOD:PUBLISH
X-ORIGINAL-URL:https://www.startupsiouxfalls.com
X-WR-CALDESC:Events for Startup Sioux Falls
REFRESH-INTERVAL;VALUE=DURATION:PT1H
X-Robots-Tag:noindex
X-PUBLISHED-TTL:PT1H
BEGIN:VTIMEZONE
TZID:America/Chicago
BEGIN:DAYLIGHT
TZOFFSETFROM:-0600
TZOFFSETTO:-0500
TZNAME:CDT
DTSTART:20240310T080000
END:DAYLIGHT
BEGIN:STANDARD
TZOFFSETFROM:-0500
TZOFFSETTO:-0600
TZNAME:CST
DTSTART:20241103T070000
END:STANDARD
BEGIN:DAYLIGHT
TZOFFSETFROM:-0600
TZOFFSETTO:-0500
TZNAME:CDT
DTSTART:20250309T080000
END:DAYLIGHT
BEGIN:STANDARD
TZOFFSETFROM:-0500
TZOFFSETTO:-0600
TZNAME:CST
DTSTART:20251102T070000
END:STANDARD
BEGIN:DAYLIGHT
TZOFFSETFROM:-0600
TZOFFSETTO:-0500
TZNAME:CDT
DTSTART:20260308T080000
END:DAYLIGHT
BEGIN:STANDARD
TZOFFSETFROM:-0500
TZOFFSETTO:-0600
TZNAME:CST
DTSTART:20261101T070000
END:STANDARD
END:VTIMEZONE
BEGIN:VEVENT
DTSTART;TZID=America/Chicago:20250623T060000
DTEND;TZID=America/Chicago:20250623T150000
DTSTAMP:20260423T064144
CREATED:20250528T203047Z
LAST-MODIFIED:20250528T203047Z
UID:10002443-1750658400-1750690800@www.startupsiouxfalls.com
SUMMARY:Founders Reset
DESCRIPTION:Six to Three on June 23: Pause\, Reset\, and Refocus. \nSometimes\, the best thing you can do for your business is to step away from it—just long enough to see it more clearly. \nFounders Reset is a half-day experience designed for founders and builders who need time to reflect\, reconnect with their purpose\, and recommit to their growth. You’ll spend the day with a small group of peers at Startup Sioux Falls and along the Downtown River Greenway\, guided by two seasoned facilitators: Craig Morris and Melissa Johnson. \nExpect a mix of strategic discussion\, creative play\, personal reflection\, and hands-on growth (yes\, we may literally plant something).\nThis is not a conference. It’s not a seminar. It’s a reset—on your time\, in your city\, and with people who get it. \nGrab your spot here!
URL:https://www.startupsiouxfalls.com/event/founders-reset/
LOCATION:Startup Sioux Falls\, 100 East 6th Street\, Sioux falls\, SD\, 57104\, United States
ATTACH;FMTTYPE=image/png:https://www.startupsiouxfalls.com/wp-content/uploads/2025/05/Founders-Reset-2025-2.png
END:VEVENT
END:VCALENDAR