BEGIN:VCALENDAR
VERSION:2.0
PRODID:-//Startup Sioux Falls - ECPv6.15.20//NONSGML v1.0//EN
CALSCALE:GREGORIAN
METHOD:PUBLISH
X-WR-CALNAME:Startup Sioux Falls
X-ORIGINAL-URL:https://www.startupsiouxfalls.com
X-WR-CALDESC:Events for Startup Sioux Falls
REFRESH-INTERVAL;VALUE=DURATION:PT1H
X-Robots-Tag:noindex
X-PUBLISHED-TTL:PT1H
BEGIN:VTIMEZONE
TZID:America/Chicago
BEGIN:DAYLIGHT
TZOFFSETFROM:-0600
TZOFFSETTO:-0500
TZNAME:CDT
DTSTART:20240310T080000
END:DAYLIGHT
BEGIN:STANDARD
TZOFFSETFROM:-0500
TZOFFSETTO:-0600
TZNAME:CST
DTSTART:20241103T070000
END:STANDARD
BEGIN:DAYLIGHT
TZOFFSETFROM:-0600
TZOFFSETTO:-0500
TZNAME:CDT
DTSTART:20250309T080000
END:DAYLIGHT
BEGIN:STANDARD
TZOFFSETFROM:-0500
TZOFFSETTO:-0600
TZNAME:CST
DTSTART:20251102T070000
END:STANDARD
BEGIN:DAYLIGHT
TZOFFSETFROM:-0600
TZOFFSETTO:-0500
TZNAME:CDT
DTSTART:20260308T080000
END:DAYLIGHT
BEGIN:STANDARD
TZOFFSETFROM:-0500
TZOFFSETTO:-0600
TZNAME:CST
DTSTART:20261101T070000
END:STANDARD
END:VTIMEZONE
BEGIN:VEVENT
DTSTART;TZID=America/Chicago:20251029T120000
DTEND;TZID=America/Chicago:20251029T130000
DTSTAMP:20260423T083205
CREATED:20250814T183125Z
LAST-MODIFIED:20251024T181950Z
UID:10002701-1761739200-1761742800@www.startupsiouxfalls.com
SUMMARY:Startup Skills Workshop: The Business Owner's Guide to Benefits
DESCRIPTION:Session Description:\nThis session will break down the essential benefits that business owners and self-employed individuals should understand\, from creative perks and team incentives to legal requirements and best practices. You’ll walk away with a clearer understanding of what’s required\, what’s recommended\, and how to confidently choose options that align with your goals as an entrepreneur or employer. \nWho Should Attend:\nThis session is ideal for entrepreneurs\, self-employed professionals\, and small business owners who want to better understand the world of benefits. Whether you’re hiring your first employee\, growing a team\, or simply looking to take care of yourself as a solo business owner\, this workshop will help you make informed decisions and build a foundation for long-term sustainability. \nAbout the Facilitator:\nAs principal of Midwest Employee Benefits\, Dawn focuses her attention on helping group health clients of all sizes. She works with Fully-insured\, Level-funded\, and Self-funded cases; presents staff proposals and conducts Affordable Care Act education sessions. Dawn also assists with Medicare plans and Individual plans. \nDawn continues to educate herself in the industry and her certifications are result of that. She also takes yearly training to re-certify in her industry. Dawn has been named to the Hall of Fame for Wellmark Blue Cross Blue Shield\, and also named agent of year for South Dakota 9 years. She is also a Leading Producer Round Table nationally for 10 years. \nBeing in the field for over 28 years\, Dawn considers her biggest accomplishment is having a happy life. She has been married to her husband for 28 years\, has 4 happy children and loves being the Principal of the agency. \nDawn does not have an ideal client since all business and individuals are potential clients. Everyone needs a strong benefit plan to protect them and make sure if something happens they are protected and their family members are too. \nLunch:\nFree\, limited lunches will be available on a first come\, first serve basis. Sponsored by HyVee. \nSpots fill quickly—don’t miss out on this opportunity to gain strategic insights on navigating all things benefits.
URL:https://www.startupsiouxfalls.com/event/startup-skills-workshop-the-business-owners-guide-to-benefits/
LOCATION:Startup Sioux Falls\, 100 East 6th Street\, Sioux falls\, SD\, 57104\, United States
ATTACH;FMTTYPE=image/png:https://www.startupsiouxfalls.com/wp-content/uploads/2025/08/October-3.png
END:VEVENT
END:VCALENDAR