BEGIN:VCALENDAR
VERSION:2.0
PRODID:-//Startup Sioux Falls - ECPv6.15.20//NONSGML v1.0//EN
CALSCALE:GREGORIAN
METHOD:PUBLISH
X-WR-CALNAME:Startup Sioux Falls
X-ORIGINAL-URL:https://www.startupsiouxfalls.com
X-WR-CALDESC:Events for Startup Sioux Falls
REFRESH-INTERVAL;VALUE=DURATION:PT1H
X-Robots-Tag:noindex
X-PUBLISHED-TTL:PT1H
BEGIN:VTIMEZONE
TZID:America/Chicago
BEGIN:DAYLIGHT
TZOFFSETFROM:-0600
TZOFFSETTO:-0500
TZNAME:CDT
DTSTART:20240310T080000
END:DAYLIGHT
BEGIN:STANDARD
TZOFFSETFROM:-0500
TZOFFSETTO:-0600
TZNAME:CST
DTSTART:20241103T070000
END:STANDARD
BEGIN:DAYLIGHT
TZOFFSETFROM:-0600
TZOFFSETTO:-0500
TZNAME:CDT
DTSTART:20250309T080000
END:DAYLIGHT
BEGIN:STANDARD
TZOFFSETFROM:-0500
TZOFFSETTO:-0600
TZNAME:CST
DTSTART:20251102T070000
END:STANDARD
BEGIN:DAYLIGHT
TZOFFSETFROM:-0600
TZOFFSETTO:-0500
TZNAME:CDT
DTSTART:20260308T080000
END:DAYLIGHT
BEGIN:STANDARD
TZOFFSETFROM:-0500
TZOFFSETTO:-0600
TZNAME:CST
DTSTART:20261101T070000
END:STANDARD
END:VTIMEZONE
BEGIN:VEVENT
DTSTART;TZID=America/Chicago:20251105T080000
DTEND;TZID=America/Chicago:20251105T091500
DTSTAMP:20260422T213746
CREATED:20250828T160645Z
LAST-MODIFIED:20251103T145238Z
UID:10002718-1762329600-1762334100@www.startupsiouxfalls.com
SUMMARY:Startup Sunrise: Culinary Creators
DESCRIPTION:Join us at Startup Sunrise\, where early risers in the startup world come together to network and ignite their entrepreneurial journey! \nWHEN: Every first Wednesday of the month\, 8:00 AM – 9:15 AM \nWHERE: Startup Sioux Falls\, 100 E 6th Street\, Sioux Falls\, SD 57104 \nStartup Sioux Falls invites you to a morning of inspiration and connection at our monthly event\, Startup Sunrise. Each month\, two startup founders or business leaders will briefly share their journey\, followed by a facilitated conversation. Startup Sunrise transforms early mornings into a vibrant environment to connect\, learn\, share ideas\, and problem solve with the brightest minds in our community! \nTHIS MONTH’S TOPIC & SPEAKERS\nIn November\, we’re excited to feature Blake Thompson and Derek Fernholz\, the local co-founders and CEOs of Fernson Brewing Co. Joining them is Beau Vondra\, Director of Food and Beverage at Totally Rad Eats (located in Fernson Downtown). Together\, they’ll offer a behind-the-scenes look at building authentic\, community-driven brands in the culinary world. \nSCHEDULE\n8:00 AM: Coffee – Connect over coffee by The Source.\n8:30 AM: Welcome performance by the featured artist.\n8:35 AM: Founder Stories – Hear 3-minute presentations from two founders or business leaders\, followed by a conversation.\n9:15 AM: Event concludes\, but FREE coworking begins (8AM – 5PM) \nWHO SHOULD ATTEND? \n\nFounders\, innovators\, community leaders\, and creatives who want to support each other and network\nCommunity builders who want to be involved in contributing to the startup community\nIndividuals that have experience in the industry or topic of the month\n\nWHY ATTEND?\nStartup Sunrise is your opportunity to kick-start your day with a punch of inspiration and a side of connection. A little bit of what you can expect: \n\nBe inspired by the stories of startup founders and engage in conversations that move our community forward.\nFace-to-face networking with like-minded people\nA supportive environment willing to help you take your next step as a founder\n\nABOUT THE SPEAKERS\nBlake Thompson & Derek Fernholz\, Fernson\nDerek Fernholz and Blake Thompson are the co-founders and co-CEOs of Fernson Brewing Company in Sioux Falls. Derek\, a former software engineer and fly-fishing enthusiast\, brings a community-minded spirit to the brewery—whether curling at the local iceplex or showcasing their innovative crowler machine. Blake\, who began his career in winemaking and holds a Master Brewers Certificate from UC Davis\, fuels Fernson’s creativity with his passion for experimental brews and small-batch innovation. \nBeau Vondra\, Totally Rad Eats\nBeau Vondra is the Chef/Co-owner of Dagger and Arrow\, the Chef/Creator of Totally Rad concepts and the Director of Food and Berverage operations for Fernson Brewing Company. He has been a winner on Guy’s Grocery Games\, appeared on Diner’s Drive-in’s and Dives\, and has won a Good Food Award for his hot sauce Dagger and Arrow Diablo Verde. He is a Sioux Falls native\, a husband\, and a father of two with deep roots in the community. He is passionate about food\, the culture surrounding it\, and the quest for knowledge. He strives to continue to grow the food community in Sioux Falls to become more collaborative and forward thinking. \nENTRY INSTRUCTIONS\nPlease enter the building from on the east side of the building\, directly adjacent to the parking lot. \nIf an ADA accommodation is needed\, please contact the Startup Sioux Falls office at 605-275-8000. \nPARKING INSTRUCTIONS\nFree and paid parking is available throughout the area. Please refer to this parking guide. \nSPONSORS\nWe’d like to thank our Startup Sunrise Sponsor\, First National Bank in Sioux Falls\, for making this event possible. \nCONTACT\nadyn@startupsiouxfalls.com
URL:https://www.startupsiouxfalls.com/event/startup-sunrise-culinary-creators/
LOCATION:Startup Sioux Falls\, 100 East 6th Street\, Sioux falls\, SD\, 57104\, United States
ATTACH;FMTTYPE=image/png:https://www.startupsiouxfalls.com/wp-content/uploads/2025/08/November-5-2.png
END:VEVENT
END:VCALENDAR