BEGIN:VCALENDAR
VERSION:2.0
PRODID:-//Startup Sioux Falls - ECPv6.15.20//NONSGML v1.0//EN
CALSCALE:GREGORIAN
METHOD:PUBLISH
X-ORIGINAL-URL:https://www.startupsiouxfalls.com
X-WR-CALDESC:Events for Startup Sioux Falls
REFRESH-INTERVAL;VALUE=DURATION:PT1H
X-Robots-Tag:noindex
X-PUBLISHED-TTL:PT1H
BEGIN:VTIMEZONE
TZID:America/Chicago
BEGIN:DAYLIGHT
TZOFFSETFROM:-0600
TZOFFSETTO:-0500
TZNAME:CDT
DTSTART:20250309T080000
END:DAYLIGHT
BEGIN:STANDARD
TZOFFSETFROM:-0500
TZOFFSETTO:-0600
TZNAME:CST
DTSTART:20251102T070000
END:STANDARD
BEGIN:DAYLIGHT
TZOFFSETFROM:-0600
TZOFFSETTO:-0500
TZNAME:CDT
DTSTART:20260308T080000
END:DAYLIGHT
BEGIN:STANDARD
TZOFFSETFROM:-0500
TZOFFSETTO:-0600
TZNAME:CST
DTSTART:20261101T070000
END:STANDARD
BEGIN:DAYLIGHT
TZOFFSETFROM:-0600
TZOFFSETTO:-0500
TZNAME:CDT
DTSTART:20270314T080000
END:DAYLIGHT
BEGIN:STANDARD
TZOFFSETFROM:-0500
TZOFFSETTO:-0600
TZNAME:CST
DTSTART:20271107T070000
END:STANDARD
END:VTIMEZONE
BEGIN:VEVENT
DTSTART;TZID=America/Chicago:20260304T080000
DTEND;TZID=America/Chicago:20260304T091500
DTSTAMP:20260420T010842
CREATED:20260130T210547Z
LAST-MODIFIED:20260130T210547Z
UID:10003572-1772611200-1772615700@www.startupsiouxfalls.com
SUMMARY:Startup Sunrise: Digital Designers
DESCRIPTION:  \nJoin us March 4 at Startup Sunrise for coffee\, networking\, and insights from Karla Santi (Blend Interactive)\, Aaron Mentele & Stefan Hartwig (Electric Pulp)\, and emcee Ben Forred (Forred Web Design.) \nDetails & Free Registration Here! \n  \n 
URL:https://www.startupsiouxfalls.com/event/startup-sunrise-digital-designers/
LOCATION:Startup Sioux Falls\, 100 East 6th Street\, Sioux falls\, SD\, 57104\, United States
ATTACH;FMTTYPE=image/png:https://www.startupsiouxfalls.com/wp-content/uploads/2026/01/Eventcreate-Sunrise-Banners-2160-x-1080-px-2.png
END:VEVENT
BEGIN:VEVENT
DTSTART;TZID=America/Chicago:20260319T113000
DTEND;TZID=America/Chicago:20260319T133000
DTSTAMP:20260420T010842
CREATED:20260130T212730Z
LAST-MODIFIED:20260130T212930Z
UID:10003573-1773919800-1773927000@www.startupsiouxfalls.com
SUMMARY:Startup Alumni Lunch
DESCRIPTION:  \nJoin us on March 19th for our annual Alumni Lunch! \nDetails & Registration Here! \n  \n 
URL:https://www.startupsiouxfalls.com/event/startup-alumni-lunch-2/
LOCATION:Startup Sioux Falls\, 100 East 6th Street\, Sioux falls\, SD\, 57104\, United States
ATTACH;FMTTYPE=image/png:https://www.startupsiouxfalls.com/wp-content/uploads/2026/01/Alumni-Lunch-Slides-2025-1.png
END:VEVENT
BEGIN:VEVENT
DTSTART;TZID=America/Chicago:20260319T163000
DTEND;TZID=America/Chicago:20260319T180000
DTSTAMP:20260420T010842
CREATED:20260303T203724Z
LAST-MODIFIED:20260303T203724Z
UID:10003658-1773937800-1773943200@www.startupsiouxfalls.com
SUMMARY:AI Builder Lab Meetup
DESCRIPTION:Sign up HERE. \nA technical deep-dive for developers and “vibe coders” who want to master the art and science of AI development. This lab combines hands-on coding with strategic thinking about turning your AI projects into profitable ventures.\nWe’ll explore the Vibe Coding Tool Stack\, dive into best practices for AI development\, and most importantly – learn how to monetize your AI building skills through client work\, services\, or products. Whether you’re a seasoned developer or someone who codes by intuition and iteration\, this lab will sharpen your technical skills while opening doors to new business opportunities.\nExpect live builds\, deep dives\, tool demonstrations\, architecture discussions\, and talk about building sustainable AI businesses. Come ready to code\, learn\, and turn your technical skills into revenue streams.\nWHO THIS IS FOR: \nIndividuals who work in software and are looking to upskill or learn new skills. \nENTRY: \nPlease enter the building from Door 1\, which is located on Phillips Avenue. ADA accessibility is available at Door 2 on the east side of the building\, but please call 605-275-8000 if you need further assistance. \nPARKING: \nFree and paid parking is available throughout the area. Please refer to this parking guide. \nSign up HERE.
URL:https://www.startupsiouxfalls.com/event/ai-builder-lab-meetup/2026-03-19/
LOCATION:Startup Sioux Falls\, 100 East 6th Street\, Sioux falls\, SD\, 57104\, United States
ATTACH;FMTTYPE=image/png:https://www.startupsiouxfalls.com/wp-content/uploads/2026/01/Meetups-Graphic-Template-1920-×-1080-px-7.png
END:VEVENT
END:VCALENDAR