BEGIN:VCALENDAR
VERSION:2.0
PRODID:-//Startup Sioux Falls - ECPv6.15.20//NONSGML v1.0//EN
CALSCALE:GREGORIAN
METHOD:PUBLISH
X-WR-CALNAME:Startup Sioux Falls
X-ORIGINAL-URL:https://www.startupsiouxfalls.com
X-WR-CALDESC:Events for Startup Sioux Falls
REFRESH-INTERVAL;VALUE=DURATION:PT1H
X-Robots-Tag:noindex
X-PUBLISHED-TTL:PT1H
BEGIN:VTIMEZONE
TZID:America/Chicago
BEGIN:DAYLIGHT
TZOFFSETFROM:-0600
TZOFFSETTO:-0500
TZNAME:CDT
DTSTART:20240310T080000
END:DAYLIGHT
BEGIN:STANDARD
TZOFFSETFROM:-0500
TZOFFSETTO:-0600
TZNAME:CST
DTSTART:20241103T070000
END:STANDARD
BEGIN:DAYLIGHT
TZOFFSETFROM:-0600
TZOFFSETTO:-0500
TZNAME:CDT
DTSTART:20250309T080000
END:DAYLIGHT
BEGIN:STANDARD
TZOFFSETFROM:-0500
TZOFFSETTO:-0600
TZNAME:CST
DTSTART:20251102T070000
END:STANDARD
BEGIN:DAYLIGHT
TZOFFSETFROM:-0600
TZOFFSETTO:-0500
TZNAME:CDT
DTSTART:20260308T080000
END:DAYLIGHT
BEGIN:STANDARD
TZOFFSETFROM:-0500
TZOFFSETTO:-0600
TZNAME:CST
DTSTART:20261101T070000
END:STANDARD
END:VTIMEZONE
BEGIN:VEVENT
DTSTART;TZID=America/Chicago:20250625T120000
DTEND;TZID=America/Chicago:20250625T130000
DTSTAMP:20260423T064951
CREATED:20250602T175111Z
LAST-MODIFIED:20250610T140609Z
UID:10002566-1750852800-1750856400@www.startupsiouxfalls.com
SUMMARY:Startup Skills Workshop: Sales Strategy
DESCRIPTION:Startup Skills Workshop: \nSALES STRATEGY\n\nJOIN US WEDNESDAY\, JUNE 25TH\n\nSession Description:\nYou’ll walk away with actionable steps to optimize your sales techniques and attract more revenue. Perfect for business owners and sales professionals who want to implement new strategies right now.\n\nWho Should Attend:\nBusiness owners\, entrepreneurs\, and sales professionals looking for simple\, effective sales strategies they can apply immediately.\n\nAbout the Speakers:\nJason Boutwell\, Jackie Payne & Amy Stockberger. More info coming soon.\n\nLunch:\nFree\, limited lunches will be available on a first come\, first serve basis.\n\nSpots fill quickly—don’t miss out on this opportunity to learn practical sales tools you can use right away.RSVP here!
URL:https://www.startupsiouxfalls.com/event/startup-skills-workshop-sales-strategy/
LOCATION:Startup Sioux Falls\, 100 East 6th Street\, Sioux falls\, SD\, 57104\, United States
ATTACH;FMTTYPE=image/png:https://www.startupsiouxfalls.com/wp-content/uploads/2025/06/Startup-Skills-Workshop-Event-Image-2160-×-1080-px-7.png
END:VEVENT
END:VCALENDAR