BEGIN:VCALENDAR
VERSION:2.0
PRODID:-//Startup Sioux Falls - ECPv6.15.20//NONSGML v1.0//EN
CALSCALE:GREGORIAN
METHOD:PUBLISH
X-WR-CALNAME:Startup Sioux Falls
X-ORIGINAL-URL:https://www.startupsiouxfalls.com
X-WR-CALDESC:Events for Startup Sioux Falls
REFRESH-INTERVAL;VALUE=DURATION:PT1H
X-Robots-Tag:noindex
X-PUBLISHED-TTL:PT1H
BEGIN:VTIMEZONE
TZID:America/Chicago
BEGIN:DAYLIGHT
TZOFFSETFROM:-0600
TZOFFSETTO:-0500
TZNAME:CDT
DTSTART:20240310T080000
END:DAYLIGHT
BEGIN:STANDARD
TZOFFSETFROM:-0500
TZOFFSETTO:-0600
TZNAME:CST
DTSTART:20241103T070000
END:STANDARD
BEGIN:DAYLIGHT
TZOFFSETFROM:-0600
TZOFFSETTO:-0500
TZNAME:CDT
DTSTART:20250309T080000
END:DAYLIGHT
BEGIN:STANDARD
TZOFFSETFROM:-0500
TZOFFSETTO:-0600
TZNAME:CST
DTSTART:20251102T070000
END:STANDARD
BEGIN:DAYLIGHT
TZOFFSETFROM:-0600
TZOFFSETTO:-0500
TZNAME:CDT
DTSTART:20260308T080000
END:DAYLIGHT
BEGIN:STANDARD
TZOFFSETFROM:-0500
TZOFFSETTO:-0600
TZNAME:CST
DTSTART:20261101T070000
END:STANDARD
END:VTIMEZONE
BEGIN:VEVENT
DTSTART;TZID=America/Chicago:20251001T080000
DTEND;TZID=America/Chicago:20251001T091500
DTSTAMP:20260423T092241
CREATED:20250814T171148Z
LAST-MODIFIED:20250814T171234Z
UID:10002699-1759305600-1759310100@www.startupsiouxfalls.com
SUMMARY:Startup Sunrise: Tech Talks
DESCRIPTION:EVENT OVERVIEW\nJoin us at Startup Sunrise\, where early risers in the startup world come together to network and ignite their entrepreneurial journey! \nWHEN: Every first Wednesday of the month\, 8:00 AM – 9:15 AM \nWHERE: Startup Sioux Falls\, 100 E 6th Street\, Sioux Falls\, SD 57104 \nStartup Sioux Falls invites you to a morning of inspiration and connection at our monthly event\, Startup Sunrise. Each month\, two startup founders or business leaders will briefly share their journey\, followed by a facilitated conversation. Startup Sunrise transforms early mornings into a vibrant environment to connect\, learn\, share ideas\, and problem solve with the brightest minds in our community! \nTHIS MONTH’S TOPIC & SPEAKERS\nThis October\, we’re excited to sit down with Mindy Kroll\, CEO of Time Management Systems\, and Jarod Keene\, Senior Product Manager at Closebot\, for a conversation about the latest innovations in business technology. \nSCHEDULE\n8:00 AM: Coffee – Connect over coffee by The Source.\n8:30 AM: Welcome performance by the featured artist.\n8:35 AM: Founder Stories – Hear 3-minute presentations from two founders or business leaders\, followed by a conversation.\n9:15 AM: Event concludes\, but FREE coworking begins (8AM – 5PM) \nWHO SHOULD ATTEND? \n\nFounders\, innovators\, community leaders\, and creatives who want to support each other and network\nCommunity builders who want to be involved in contributing to the startup community\nIndividuals that have experience in the industry or topic of the month\n\nWHY ATTEND?\nStartup Sunrise is your opportunity to kick-start your day with a punch of inspiration and a side of connection. A little bit of what you can expect: \n\nBe inspired by the stories of startup founders and engage in conversations that move our community forward.\nFace-to-face networking with like-minded people\nA supportive environment willing to help you take your next step as a founder\n\nABOUT THE SPEAKERS\n\nMindy Kroll\, Time Management Systems\nMindy Kroll is the CEO of Time Management Systems\, a family-owned business she joined in 2007 and later purchased with her sister in 2013. Under her leadership\, TMS has grown into one of the largest providers of workforce management and security solutions in the country. She’s passionate about innovation\, customer service\, and helping businesses operate more efficiently. Mindy continues to build on her family’s legacy with a strong focus on technology and client success.\n\nJarod Keene\, Closebot\nInfo coming soon! \nENTRY INSTRUCTIONS \nPlease enter the building from on the east side of the building\, directly adjacent to the parking lot. \nIf an ADA accommodation is needed\, please contact the Startup Sioux Falls office at 605-275-8000. \nPARKING INSTRUCTIONS\nFree and paid parking is available throughout the area. Please refer to this parking guide. \nCONTACT\nadyn@startupsiouxfalls.com
URL:https://www.startupsiouxfalls.com/event/startup-sunrise-tech-talks/
LOCATION:Startup Sioux Falls\, 100 East 6th Street\, Sioux falls\, SD\, 57104\, United States
ATTACH;FMTTYPE=image/png:https://www.startupsiouxfalls.com/wp-content/uploads/2025/08/October-1.png
END:VEVENT
END:VCALENDAR