BEGIN:VCALENDAR
VERSION:2.0
PRODID:-//Startup Sioux Falls - ECPv6.15.20//NONSGML v1.0//EN
CALSCALE:GREGORIAN
METHOD:PUBLISH
X-WR-CALNAME:Startup Sioux Falls
X-ORIGINAL-URL:https://www.startupsiouxfalls.com
X-WR-CALDESC:Events for Startup Sioux Falls
REFRESH-INTERVAL;VALUE=DURATION:PT1H
X-Robots-Tag:noindex
X-PUBLISHED-TTL:PT1H
BEGIN:VTIMEZONE
TZID:America/Chicago
BEGIN:DAYLIGHT
TZOFFSETFROM:-0600
TZOFFSETTO:-0500
TZNAME:CDT
DTSTART:20240310T080000
END:DAYLIGHT
BEGIN:STANDARD
TZOFFSETFROM:-0500
TZOFFSETTO:-0600
TZNAME:CST
DTSTART:20241103T070000
END:STANDARD
BEGIN:DAYLIGHT
TZOFFSETFROM:-0600
TZOFFSETTO:-0500
TZNAME:CDT
DTSTART:20250309T080000
END:DAYLIGHT
BEGIN:STANDARD
TZOFFSETFROM:-0500
TZOFFSETTO:-0600
TZNAME:CST
DTSTART:20251102T070000
END:STANDARD
BEGIN:DAYLIGHT
TZOFFSETFROM:-0600
TZOFFSETTO:-0500
TZNAME:CDT
DTSTART:20260308T080000
END:DAYLIGHT
BEGIN:STANDARD
TZOFFSETFROM:-0500
TZOFFSETTO:-0600
TZNAME:CST
DTSTART:20261101T070000
END:STANDARD
END:VTIMEZONE
BEGIN:VEVENT
DTSTART;TZID=America/Chicago:20250626T160000
DTEND;TZID=America/Chicago:20250626T183000
DTSTAMP:20260422T112055
CREATED:20250602T140916Z
LAST-MODIFIED:20250602T140916Z
UID:10002565-1750953600-1750962600@www.startupsiouxfalls.com
SUMMARY:Acton Children's Business Fair Sioux Falls 2025
DESCRIPTION:Observe the opportunity for children to launch their very own startup business! \nKids develop a brand\, create a product or service\, build a marketing strategy\, and then open for customers at our one-day marketplace. \nWe will host up to 56+ booths at our 5th Annual Acton Children’s Business Fair Sioux Falls on Thursday June 26th\, from 4-6:30 PM\, with an awards ceremony to follow. The fair location is at Startup Sioux Falls downtown\, followed by a FREE concert at the Levitt. \nThe Acton Children’s Business Fair is open to any child between the ages of 6-17. There is $30 booth fee\, which will cover advertising costs\, signage\, and other organizational materials. \nThis event is sponsored by Acton Academy Sioux Falls\, the Acton School of Business\, Startup Sioux Falls\, KAJ Hospitality\, and the generous support of our donors and volunteers. We all believe that principled entrepreneurs are heroes and role models for the next generation. \nWhether an entrepreneur is famous like Elon Musk or Oprah Winfrey or they are one of the thousands of unsung business owners across this country\, these are the people who make sacrifices to innovate\, create jobs and serve their communities.
URL:https://www.startupsiouxfalls.com/event/acton-childrens-business-fair-sioux-falls-2025/
LOCATION:Startup Sioux Falls\, 100 East 6th Street\, Sioux falls\, SD\, 57104\, United States
ATTACH;FMTTYPE=image/png:https://www.startupsiouxfalls.com/wp-content/uploads/2025/05/1200-scaled.png
ORGANIZER;CN="Acton Academy Sioux Falls":MAILTO:aaron@actonacademysiouxfalls.org
END:VEVENT
END:VCALENDAR