BEGIN:VCALENDAR
VERSION:2.0
PRODID:-//Startup Sioux Falls - ECPv6.15.20//NONSGML v1.0//EN
CALSCALE:GREGORIAN
METHOD:PUBLISH
X-ORIGINAL-URL:https://www.startupsiouxfalls.com
X-WR-CALDESC:Events for Startup Sioux Falls
REFRESH-INTERVAL;VALUE=DURATION:PT1H
X-Robots-Tag:noindex
X-PUBLISHED-TTL:PT1H
BEGIN:VTIMEZONE
TZID:America/Chicago
BEGIN:DAYLIGHT
TZOFFSETFROM:-0600
TZOFFSETTO:-0500
TZNAME:CDT
DTSTART:20290311T080000
END:DAYLIGHT
BEGIN:STANDARD
TZOFFSETFROM:-0500
TZOFFSETTO:-0600
TZNAME:CST
DTSTART:20291104T070000
END:STANDARD
BEGIN:DAYLIGHT
TZOFFSETFROM:-0600
TZOFFSETTO:-0500
TZNAME:CDT
DTSTART:20300310T080000
END:DAYLIGHT
BEGIN:STANDARD
TZOFFSETFROM:-0500
TZOFFSETTO:-0600
TZNAME:CST
DTSTART:20301103T070000
END:STANDARD
BEGIN:DAYLIGHT
TZOFFSETFROM:-0600
TZOFFSETTO:-0500
TZNAME:CDT
DTSTART:20310309T080000
END:DAYLIGHT
BEGIN:STANDARD
TZOFFSETFROM:-0500
TZOFFSETTO:-0600
TZNAME:CST
DTSTART:20311102T070000
END:STANDARD
BEGIN:DAYLIGHT
TZOFFSETFROM:-0600
TZOFFSETTO:-0500
TZNAME:CDT
DTSTART:20320314T080000
END:DAYLIGHT
BEGIN:STANDARD
TZOFFSETFROM:-0500
TZOFFSETTO:-0600
TZNAME:CST
DTSTART:20321107T070000
END:STANDARD
END:VTIMEZONE
BEGIN:VEVENT
DTSTART;TZID=America/Chicago:20300718T080000
DTEND;TZID=America/Chicago:20300718T093000
DTSTAMP:20260423T052212
CREATED:20240531T172339Z
LAST-MODIFIED:20240531T172339Z
UID:10002629-1910592000-1910597400@www.startupsiouxfalls.com
SUMMARY:Coffee N Connections
DESCRIPTION:What is Coffee N Connections? \nIf you are a woman\, you are invited to join us for coffee and connections. Coffee N Connections is a bi-weekly gathering designed to create a nurturing and empowering environment for women entrepreneurs and business owners.  \nThis event allows like-minded women to connect\, collaborate\, and foster professional and personal relationships. It is dedicated to providing support\, encouragement\, and empowerment\, aiming to facilitate the exchange of ideas\, experiences\, and opportunities amongst women in business. Please join us at Jones421 (421 N Phillips Ave) any time between 8 and 9:30.Up-to-date event information can be found on theFresh Impact Facebook page.
URL:https://www.startupsiouxfalls.com/event/coffee-n-connections-2/2030-07-18/
LOCATION:Jones421\, 421 North Phillips Avenue\, Sioux Falls
ATTACH;FMTTYPE=image/jpeg:https://www.startupsiouxfalls.com/wp-content/uploads/2019/11/coffee.jpg
END:VEVENT
BEGIN:VEVENT
DTSTART;TZID=America/Chicago:20300801T080000
DTEND;TZID=America/Chicago:20300801T093000
DTSTAMP:20260423T052212
CREATED:20240531T172339Z
LAST-MODIFIED:20240531T172339Z
UID:10002695-1911801600-1911807000@www.startupsiouxfalls.com
SUMMARY:Coffee N Connections
DESCRIPTION:What is Coffee N Connections? \nIf you are a woman\, you are invited to join us for coffee and connections. Coffee N Connections is a bi-weekly gathering designed to create a nurturing and empowering environment for women entrepreneurs and business owners.  \nThis event allows like-minded women to connect\, collaborate\, and foster professional and personal relationships. It is dedicated to providing support\, encouragement\, and empowerment\, aiming to facilitate the exchange of ideas\, experiences\, and opportunities amongst women in business. Please join us at Jones421 (421 N Phillips Ave) any time between 8 and 9:30.Up-to-date event information can be found on theFresh Impact Facebook page.
URL:https://www.startupsiouxfalls.com/event/coffee-n-connections-2/2030-08-01/
LOCATION:Jones421\, 421 North Phillips Avenue\, Sioux Falls
ATTACH;FMTTYPE=image/jpeg:https://www.startupsiouxfalls.com/wp-content/uploads/2019/11/coffee.jpg
END:VEVENT
BEGIN:VEVENT
DTSTART;TZID=America/Chicago:20300815T080000
DTEND;TZID=America/Chicago:20300815T093000
DTSTAMP:20260423T052212
CREATED:20240531T172339Z
LAST-MODIFIED:20240531T172339Z
UID:10002717-1913011200-1913016600@www.startupsiouxfalls.com
SUMMARY:Coffee N Connections
DESCRIPTION:What is Coffee N Connections? \nIf you are a woman\, you are invited to join us for coffee and connections. Coffee N Connections is a bi-weekly gathering designed to create a nurturing and empowering environment for women entrepreneurs and business owners.  \nThis event allows like-minded women to connect\, collaborate\, and foster professional and personal relationships. It is dedicated to providing support\, encouragement\, and empowerment\, aiming to facilitate the exchange of ideas\, experiences\, and opportunities amongst women in business. Please join us at Jones421 (421 N Phillips Ave) any time between 8 and 9:30.Up-to-date event information can be found on theFresh Impact Facebook page.
URL:https://www.startupsiouxfalls.com/event/coffee-n-connections-2/2030-08-15/
LOCATION:Jones421\, 421 North Phillips Avenue\, Sioux Falls
ATTACH;FMTTYPE=image/jpeg:https://www.startupsiouxfalls.com/wp-content/uploads/2019/11/coffee.jpg
END:VEVENT
BEGIN:VEVENT
DTSTART;TZID=America/Chicago:20300829T080000
DTEND;TZID=America/Chicago:20300829T093000
DTSTAMP:20260423T052212
CREATED:20240531T172339Z
LAST-MODIFIED:20240531T172339Z
UID:10002781-1914220800-1914226200@www.startupsiouxfalls.com
SUMMARY:Coffee N Connections
DESCRIPTION:What is Coffee N Connections? \nIf you are a woman\, you are invited to join us for coffee and connections. Coffee N Connections is a bi-weekly gathering designed to create a nurturing and empowering environment for women entrepreneurs and business owners.  \nThis event allows like-minded women to connect\, collaborate\, and foster professional and personal relationships. It is dedicated to providing support\, encouragement\, and empowerment\, aiming to facilitate the exchange of ideas\, experiences\, and opportunities amongst women in business. Please join us at Jones421 (421 N Phillips Ave) any time between 8 and 9:30.Up-to-date event information can be found on theFresh Impact Facebook page.
URL:https://www.startupsiouxfalls.com/event/coffee-n-connections-2/2030-08-29/
LOCATION:Jones421\, 421 North Phillips Avenue\, Sioux Falls
ATTACH;FMTTYPE=image/jpeg:https://www.startupsiouxfalls.com/wp-content/uploads/2019/11/coffee.jpg
END:VEVENT
BEGIN:VEVENT
DTSTART;TZID=America/Chicago:20300912T080000
DTEND;TZID=America/Chicago:20300912T093000
DTSTAMP:20260423T052212
CREATED:20240531T172339Z
LAST-MODIFIED:20240531T172339Z
UID:10002786-1915430400-1915435800@www.startupsiouxfalls.com
SUMMARY:Coffee N Connections
DESCRIPTION:What is Coffee N Connections? \nIf you are a woman\, you are invited to join us for coffee and connections. Coffee N Connections is a bi-weekly gathering designed to create a nurturing and empowering environment for women entrepreneurs and business owners.  \nThis event allows like-minded women to connect\, collaborate\, and foster professional and personal relationships. It is dedicated to providing support\, encouragement\, and empowerment\, aiming to facilitate the exchange of ideas\, experiences\, and opportunities amongst women in business. Please join us at Jones421 (421 N Phillips Ave) any time between 8 and 9:30.Up-to-date event information can be found on theFresh Impact Facebook page.
URL:https://www.startupsiouxfalls.com/event/coffee-n-connections-2/2030-09-12/
LOCATION:Jones421\, 421 North Phillips Avenue\, Sioux Falls
ATTACH;FMTTYPE=image/jpeg:https://www.startupsiouxfalls.com/wp-content/uploads/2019/11/coffee.jpg
END:VEVENT
BEGIN:VEVENT
DTSTART;TZID=America/Chicago:20300926T080000
DTEND;TZID=America/Chicago:20300926T093000
DTSTAMP:20260423T052212
CREATED:20240531T172339Z
LAST-MODIFIED:20240531T172339Z
UID:10002851-1916640000-1916645400@www.startupsiouxfalls.com
SUMMARY:Coffee N Connections
DESCRIPTION:What is Coffee N Connections? \nIf you are a woman\, you are invited to join us for coffee and connections. Coffee N Connections is a bi-weekly gathering designed to create a nurturing and empowering environment for women entrepreneurs and business owners.  \nThis event allows like-minded women to connect\, collaborate\, and foster professional and personal relationships. It is dedicated to providing support\, encouragement\, and empowerment\, aiming to facilitate the exchange of ideas\, experiences\, and opportunities amongst women in business. Please join us at Jones421 (421 N Phillips Ave) any time between 8 and 9:30.Up-to-date event information can be found on theFresh Impact Facebook page.
URL:https://www.startupsiouxfalls.com/event/coffee-n-connections-2/2030-09-26/
LOCATION:Jones421\, 421 North Phillips Avenue\, Sioux Falls
ATTACH;FMTTYPE=image/jpeg:https://www.startupsiouxfalls.com/wp-content/uploads/2019/11/coffee.jpg
END:VEVENT
BEGIN:VEVENT
DTSTART;TZID=America/Chicago:20301010T080000
DTEND;TZID=America/Chicago:20301010T093000
DTSTAMP:20260423T052212
CREATED:20240531T172339Z
LAST-MODIFIED:20240531T172339Z
UID:10002921-1917849600-1917855000@www.startupsiouxfalls.com
SUMMARY:Coffee N Connections
DESCRIPTION:What is Coffee N Connections? \nIf you are a woman\, you are invited to join us for coffee and connections. Coffee N Connections is a bi-weekly gathering designed to create a nurturing and empowering environment for women entrepreneurs and business owners.  \nThis event allows like-minded women to connect\, collaborate\, and foster professional and personal relationships. It is dedicated to providing support\, encouragement\, and empowerment\, aiming to facilitate the exchange of ideas\, experiences\, and opportunities amongst women in business. Please join us at Jones421 (421 N Phillips Ave) any time between 8 and 9:30.Up-to-date event information can be found on theFresh Impact Facebook page.
URL:https://www.startupsiouxfalls.com/event/coffee-n-connections-2/2030-10-10/
LOCATION:Jones421\, 421 North Phillips Avenue\, Sioux Falls
ATTACH;FMTTYPE=image/jpeg:https://www.startupsiouxfalls.com/wp-content/uploads/2019/11/coffee.jpg
END:VEVENT
BEGIN:VEVENT
DTSTART;TZID=America/Chicago:20301024T080000
DTEND;TZID=America/Chicago:20301024T093000
DTSTAMP:20260423T052212
CREATED:20240531T172339Z
LAST-MODIFIED:20240531T172339Z
UID:10002928-1919059200-1919064600@www.startupsiouxfalls.com
SUMMARY:Coffee N Connections
DESCRIPTION:What is Coffee N Connections? \nIf you are a woman\, you are invited to join us for coffee and connections. Coffee N Connections is a bi-weekly gathering designed to create a nurturing and empowering environment for women entrepreneurs and business owners.  \nThis event allows like-minded women to connect\, collaborate\, and foster professional and personal relationships. It is dedicated to providing support\, encouragement\, and empowerment\, aiming to facilitate the exchange of ideas\, experiences\, and opportunities amongst women in business. Please join us at Jones421 (421 N Phillips Ave) any time between 8 and 9:30.Up-to-date event information can be found on theFresh Impact Facebook page.
URL:https://www.startupsiouxfalls.com/event/coffee-n-connections-2/2030-10-24/
LOCATION:Jones421\, 421 North Phillips Avenue\, Sioux Falls
ATTACH;FMTTYPE=image/jpeg:https://www.startupsiouxfalls.com/wp-content/uploads/2019/11/coffee.jpg
END:VEVENT
BEGIN:VEVENT
DTSTART;TZID=America/Chicago:20301107T080000
DTEND;TZID=America/Chicago:20301107T093000
DTSTAMP:20260423T052212
CREATED:20240531T172339Z
LAST-MODIFIED:20240531T172339Z
UID:10002933-1920268800-1920274200@www.startupsiouxfalls.com
SUMMARY:Coffee N Connections
DESCRIPTION:What is Coffee N Connections? \nIf you are a woman\, you are invited to join us for coffee and connections. Coffee N Connections is a bi-weekly gathering designed to create a nurturing and empowering environment for women entrepreneurs and business owners.  \nThis event allows like-minded women to connect\, collaborate\, and foster professional and personal relationships. It is dedicated to providing support\, encouragement\, and empowerment\, aiming to facilitate the exchange of ideas\, experiences\, and opportunities amongst women in business. Please join us at Jones421 (421 N Phillips Ave) any time between 8 and 9:30.Up-to-date event information can be found on theFresh Impact Facebook page.
URL:https://www.startupsiouxfalls.com/event/coffee-n-connections-2/2030-11-07/
LOCATION:Jones421\, 421 North Phillips Avenue\, Sioux Falls
ATTACH;FMTTYPE=image/jpeg:https://www.startupsiouxfalls.com/wp-content/uploads/2019/11/coffee.jpg
END:VEVENT
BEGIN:VEVENT
DTSTART;TZID=America/Chicago:20301121T080000
DTEND;TZID=America/Chicago:20301121T093000
DTSTAMP:20260423T052212
CREATED:20240531T172339Z
LAST-MODIFIED:20240531T172339Z
UID:10002939-1921478400-1921483800@www.startupsiouxfalls.com
SUMMARY:Coffee N Connections
DESCRIPTION:What is Coffee N Connections? \nIf you are a woman\, you are invited to join us for coffee and connections. Coffee N Connections is a bi-weekly gathering designed to create a nurturing and empowering environment for women entrepreneurs and business owners.  \nThis event allows like-minded women to connect\, collaborate\, and foster professional and personal relationships. It is dedicated to providing support\, encouragement\, and empowerment\, aiming to facilitate the exchange of ideas\, experiences\, and opportunities amongst women in business. Please join us at Jones421 (421 N Phillips Ave) any time between 8 and 9:30.Up-to-date event information can be found on theFresh Impact Facebook page.
URL:https://www.startupsiouxfalls.com/event/coffee-n-connections-2/2030-11-21/
LOCATION:Jones421\, 421 North Phillips Avenue\, Sioux Falls
ATTACH;FMTTYPE=image/jpeg:https://www.startupsiouxfalls.com/wp-content/uploads/2019/11/coffee.jpg
END:VEVENT
BEGIN:VEVENT
DTSTART;TZID=America/Chicago:20301205T080000
DTEND;TZID=America/Chicago:20301205T093000
DTSTAMP:20260423T052212
CREATED:20240531T172339Z
LAST-MODIFIED:20240531T172339Z
UID:10002951-1922688000-1922693400@www.startupsiouxfalls.com
SUMMARY:Coffee N Connections
DESCRIPTION:What is Coffee N Connections? \nIf you are a woman\, you are invited to join us for coffee and connections. Coffee N Connections is a bi-weekly gathering designed to create a nurturing and empowering environment for women entrepreneurs and business owners.  \nThis event allows like-minded women to connect\, collaborate\, and foster professional and personal relationships. It is dedicated to providing support\, encouragement\, and empowerment\, aiming to facilitate the exchange of ideas\, experiences\, and opportunities amongst women in business. Please join us at Jones421 (421 N Phillips Ave) any time between 8 and 9:30.Up-to-date event information can be found on theFresh Impact Facebook page.
URL:https://www.startupsiouxfalls.com/event/coffee-n-connections-2/2030-12-05/
LOCATION:Jones421\, 421 North Phillips Avenue\, Sioux Falls
ATTACH;FMTTYPE=image/jpeg:https://www.startupsiouxfalls.com/wp-content/uploads/2019/11/coffee.jpg
END:VEVENT
BEGIN:VEVENT
DTSTART;TZID=America/Chicago:20301219T080000
DTEND;TZID=America/Chicago:20301219T093000
DTSTAMP:20260423T052212
CREATED:20240531T172339Z
LAST-MODIFIED:20240531T172339Z
UID:10002952-1923897600-1923903000@www.startupsiouxfalls.com
SUMMARY:Coffee N Connections
DESCRIPTION:What is Coffee N Connections? \nIf you are a woman\, you are invited to join us for coffee and connections. Coffee N Connections is a bi-weekly gathering designed to create a nurturing and empowering environment for women entrepreneurs and business owners.  \nThis event allows like-minded women to connect\, collaborate\, and foster professional and personal relationships. It is dedicated to providing support\, encouragement\, and empowerment\, aiming to facilitate the exchange of ideas\, experiences\, and opportunities amongst women in business. Please join us at Jones421 (421 N Phillips Ave) any time between 8 and 9:30.Up-to-date event information can be found on theFresh Impact Facebook page.
URL:https://www.startupsiouxfalls.com/event/coffee-n-connections-2/2030-12-19/
LOCATION:Jones421\, 421 North Phillips Avenue\, Sioux Falls
ATTACH;FMTTYPE=image/jpeg:https://www.startupsiouxfalls.com/wp-content/uploads/2019/11/coffee.jpg
END:VEVENT
BEGIN:VEVENT
DTSTART;TZID=America/Chicago:20310102T080000
DTEND;TZID=America/Chicago:20310102T093000
DTSTAMP:20260423T052212
CREATED:20240531T172339Z
LAST-MODIFIED:20240531T172339Z
UID:10002970-1925107200-1925112600@www.startupsiouxfalls.com
SUMMARY:Coffee N Connections
DESCRIPTION:What is Coffee N Connections? \nIf you are a woman\, you are invited to join us for coffee and connections. Coffee N Connections is a bi-weekly gathering designed to create a nurturing and empowering environment for women entrepreneurs and business owners.  \nThis event allows like-minded women to connect\, collaborate\, and foster professional and personal relationships. It is dedicated to providing support\, encouragement\, and empowerment\, aiming to facilitate the exchange of ideas\, experiences\, and opportunities amongst women in business. Please join us at Jones421 (421 N Phillips Ave) any time between 8 and 9:30.Up-to-date event information can be found on theFresh Impact Facebook page.
URL:https://www.startupsiouxfalls.com/event/coffee-n-connections-2/2031-01-02/
LOCATION:Jones421\, 421 North Phillips Avenue\, Sioux Falls
ATTACH;FMTTYPE=image/jpeg:https://www.startupsiouxfalls.com/wp-content/uploads/2019/11/coffee.jpg
END:VEVENT
BEGIN:VEVENT
DTSTART;TZID=America/Chicago:20310116T080000
DTEND;TZID=America/Chicago:20310116T093000
DTSTAMP:20260423T052212
CREATED:20240531T172339Z
LAST-MODIFIED:20240531T172339Z
UID:10003287-1926316800-1926322200@www.startupsiouxfalls.com
SUMMARY:Coffee N Connections
DESCRIPTION:What is Coffee N Connections? \nIf you are a woman\, you are invited to join us for coffee and connections. Coffee N Connections is a bi-weekly gathering designed to create a nurturing and empowering environment for women entrepreneurs and business owners.  \nThis event allows like-minded women to connect\, collaborate\, and foster professional and personal relationships. It is dedicated to providing support\, encouragement\, and empowerment\, aiming to facilitate the exchange of ideas\, experiences\, and opportunities amongst women in business. Please join us at Jones421 (421 N Phillips Ave) any time between 8 and 9:30.Up-to-date event information can be found on theFresh Impact Facebook page.
URL:https://www.startupsiouxfalls.com/event/coffee-n-connections-2/2031-01-16/
LOCATION:Jones421\, 421 North Phillips Avenue\, Sioux Falls
ATTACH;FMTTYPE=image/jpeg:https://www.startupsiouxfalls.com/wp-content/uploads/2019/11/coffee.jpg
END:VEVENT
BEGIN:VEVENT
DTSTART;TZID=America/Chicago:20310130T080000
DTEND;TZID=America/Chicago:20310130T093000
DTSTAMP:20260423T052212
CREATED:20240531T172339Z
LAST-MODIFIED:20240531T172339Z
UID:10003582-1927526400-1927531800@www.startupsiouxfalls.com
SUMMARY:Coffee N Connections
DESCRIPTION:What is Coffee N Connections? \nIf you are a woman\, you are invited to join us for coffee and connections. Coffee N Connections is a bi-weekly gathering designed to create a nurturing and empowering environment for women entrepreneurs and business owners.  \nThis event allows like-minded women to connect\, collaborate\, and foster professional and personal relationships. It is dedicated to providing support\, encouragement\, and empowerment\, aiming to facilitate the exchange of ideas\, experiences\, and opportunities amongst women in business. Please join us at Jones421 (421 N Phillips Ave) any time between 8 and 9:30.Up-to-date event information can be found on theFresh Impact Facebook page.
URL:https://www.startupsiouxfalls.com/event/coffee-n-connections-2/2031-01-30/
LOCATION:Jones421\, 421 North Phillips Avenue\, Sioux Falls
ATTACH;FMTTYPE=image/jpeg:https://www.startupsiouxfalls.com/wp-content/uploads/2019/11/coffee.jpg
END:VEVENT
BEGIN:VEVENT
DTSTART;TZID=America/Chicago:20310213T080000
DTEND;TZID=America/Chicago:20310213T093000
DTSTAMP:20260423T052212
CREATED:20240531T172339Z
LAST-MODIFIED:20240531T172339Z
UID:10003653-1928736000-1928741400@www.startupsiouxfalls.com
SUMMARY:Coffee N Connections
DESCRIPTION:What is Coffee N Connections? \nIf you are a woman\, you are invited to join us for coffee and connections. Coffee N Connections is a bi-weekly gathering designed to create a nurturing and empowering environment for women entrepreneurs and business owners.  \nThis event allows like-minded women to connect\, collaborate\, and foster professional and personal relationships. It is dedicated to providing support\, encouragement\, and empowerment\, aiming to facilitate the exchange of ideas\, experiences\, and opportunities amongst women in business. Please join us at Jones421 (421 N Phillips Ave) any time between 8 and 9:30.Up-to-date event information can be found on theFresh Impact Facebook page.
URL:https://www.startupsiouxfalls.com/event/coffee-n-connections-2/2031-02-13/
LOCATION:Jones421\, 421 North Phillips Avenue\, Sioux Falls
ATTACH;FMTTYPE=image/jpeg:https://www.startupsiouxfalls.com/wp-content/uploads/2019/11/coffee.jpg
END:VEVENT
BEGIN:VEVENT
DTSTART;TZID=America/Chicago:20310227T080000
DTEND;TZID=America/Chicago:20310227T093000
DTSTAMP:20260423T052212
CREATED:20240531T172339Z
LAST-MODIFIED:20240531T172339Z
UID:10003720-1929945600-1929951000@www.startupsiouxfalls.com
SUMMARY:Coffee N Connections
DESCRIPTION:What is Coffee N Connections? \nIf you are a woman\, you are invited to join us for coffee and connections. Coffee N Connections is a bi-weekly gathering designed to create a nurturing and empowering environment for women entrepreneurs and business owners.  \nThis event allows like-minded women to connect\, collaborate\, and foster professional and personal relationships. It is dedicated to providing support\, encouragement\, and empowerment\, aiming to facilitate the exchange of ideas\, experiences\, and opportunities amongst women in business. Please join us at Jones421 (421 N Phillips Ave) any time between 8 and 9:30.Up-to-date event information can be found on theFresh Impact Facebook page.
URL:https://www.startupsiouxfalls.com/event/coffee-n-connections-2/2031-02-27/
LOCATION:Jones421\, 421 North Phillips Avenue\, Sioux Falls
ATTACH;FMTTYPE=image/jpeg:https://www.startupsiouxfalls.com/wp-content/uploads/2019/11/coffee.jpg
END:VEVENT
BEGIN:VEVENT
DTSTART;TZID=America/Chicago:20310313T080000
DTEND;TZID=America/Chicago:20310313T093000
DTSTAMP:20260423T052212
CREATED:20240531T172339Z
LAST-MODIFIED:20240531T172339Z
UID:10003739-1931155200-1931160600@www.startupsiouxfalls.com
SUMMARY:Coffee N Connections
DESCRIPTION:What is Coffee N Connections? \nIf you are a woman\, you are invited to join us for coffee and connections. Coffee N Connections is a bi-weekly gathering designed to create a nurturing and empowering environment for women entrepreneurs and business owners.  \nThis event allows like-minded women to connect\, collaborate\, and foster professional and personal relationships. It is dedicated to providing support\, encouragement\, and empowerment\, aiming to facilitate the exchange of ideas\, experiences\, and opportunities amongst women in business. Please join us at Jones421 (421 N Phillips Ave) any time between 8 and 9:30.Up-to-date event information can be found on theFresh Impact Facebook page.
URL:https://www.startupsiouxfalls.com/event/coffee-n-connections-2/2031-03-13/
LOCATION:Jones421\, 421 North Phillips Avenue\, Sioux Falls
ATTACH;FMTTYPE=image/jpeg:https://www.startupsiouxfalls.com/wp-content/uploads/2019/11/coffee.jpg
END:VEVENT
BEGIN:VEVENT
DTSTART;TZID=America/Chicago:20310327T080000
DTEND;TZID=America/Chicago:20310327T093000
DTSTAMP:20260423T052212
CREATED:20240531T172339Z
LAST-MODIFIED:20240531T172339Z
UID:10003743-1932364800-1932370200@www.startupsiouxfalls.com
SUMMARY:Coffee N Connections
DESCRIPTION:What is Coffee N Connections? \nIf you are a woman\, you are invited to join us for coffee and connections. Coffee N Connections is a bi-weekly gathering designed to create a nurturing and empowering environment for women entrepreneurs and business owners.  \nThis event allows like-minded women to connect\, collaborate\, and foster professional and personal relationships. It is dedicated to providing support\, encouragement\, and empowerment\, aiming to facilitate the exchange of ideas\, experiences\, and opportunities amongst women in business. Please join us at Jones421 (421 N Phillips Ave) any time between 8 and 9:30.Up-to-date event information can be found on theFresh Impact Facebook page.
URL:https://www.startupsiouxfalls.com/event/coffee-n-connections-2/2031-03-27/
LOCATION:Jones421\, 421 North Phillips Avenue\, Sioux Falls
ATTACH;FMTTYPE=image/jpeg:https://www.startupsiouxfalls.com/wp-content/uploads/2019/11/coffee.jpg
END:VEVENT
BEGIN:VEVENT
DTSTART;TZID=America/Chicago:20310410T080000
DTEND;TZID=America/Chicago:20310410T093000
DTSTAMP:20260423T052212
CREATED:20240531T172339Z
LAST-MODIFIED:20240531T172339Z
UID:10003746-1933574400-1933579800@www.startupsiouxfalls.com
SUMMARY:Coffee N Connections
DESCRIPTION:What is Coffee N Connections? \nIf you are a woman\, you are invited to join us for coffee and connections. Coffee N Connections is a bi-weekly gathering designed to create a nurturing and empowering environment for women entrepreneurs and business owners.  \nThis event allows like-minded women to connect\, collaborate\, and foster professional and personal relationships. It is dedicated to providing support\, encouragement\, and empowerment\, aiming to facilitate the exchange of ideas\, experiences\, and opportunities amongst women in business. Please join us at Jones421 (421 N Phillips Ave) any time between 8 and 9:30.Up-to-date event information can be found on theFresh Impact Facebook page.
URL:https://www.startupsiouxfalls.com/event/coffee-n-connections-2/2031-04-10/
LOCATION:Jones421\, 421 North Phillips Avenue\, Sioux Falls
ATTACH;FMTTYPE=image/jpeg:https://www.startupsiouxfalls.com/wp-content/uploads/2019/11/coffee.jpg
END:VEVENT
END:VCALENDAR