BEGIN:VCALENDAR
VERSION:2.0
PRODID:-//Startup Sioux Falls - ECPv6.15.20//NONSGML v1.0//EN
CALSCALE:GREGORIAN
METHOD:PUBLISH
X-WR-CALNAME:Startup Sioux Falls
X-ORIGINAL-URL:https://www.startupsiouxfalls.com
X-WR-CALDESC:Events for Startup Sioux Falls
REFRESH-INTERVAL;VALUE=DURATION:PT1H
X-Robots-Tag:noindex
X-PUBLISHED-TTL:PT1H
BEGIN:VTIMEZONE
TZID:America/Chicago
BEGIN:DAYLIGHT
TZOFFSETFROM:-0600
TZOFFSETTO:-0500
TZNAME:CDT
DTSTART:20240310T080000
END:DAYLIGHT
BEGIN:STANDARD
TZOFFSETFROM:-0500
TZOFFSETTO:-0600
TZNAME:CST
DTSTART:20241103T070000
END:STANDARD
BEGIN:DAYLIGHT
TZOFFSETFROM:-0600
TZOFFSETTO:-0500
TZNAME:CDT
DTSTART:20250309T080000
END:DAYLIGHT
BEGIN:STANDARD
TZOFFSETFROM:-0500
TZOFFSETTO:-0600
TZNAME:CST
DTSTART:20251102T070000
END:STANDARD
BEGIN:DAYLIGHT
TZOFFSETFROM:-0600
TZOFFSETTO:-0500
TZNAME:CDT
DTSTART:20260308T080000
END:DAYLIGHT
BEGIN:STANDARD
TZOFFSETFROM:-0500
TZOFFSETTO:-0600
TZNAME:CST
DTSTART:20261101T070000
END:STANDARD
END:VTIMEZONE
BEGIN:VEVENT
DTSTART;TZID=America/Chicago:20250521T113000
DTEND;TZID=America/Chicago:20250521T150000
DTSTAMP:20260420T173633
CREATED:20250320T191027Z
LAST-MODIFIED:20250320T191027Z
UID:10002242-1747827000-1747839600@www.startupsiouxfalls.com
SUMMARY:Elevate Women - Mitchell
DESCRIPTION:Date: 5/21/2025\nTime: 11:30 AM – 3:00 PM (CDT)\nRegistration Deadline: 5/14/2025 5:00 PM (CDT)\nFees: \n\n\n\n\nFull Fee Amount\n$35.00\n\n\n\nTable of 8\n$250.00\nTable of 8\n\n\nVendor Booth\n$60.00\n\n\n\n\nRegistration Policies\nPoint of Contact: Sadie Swier (605) 631-9106\nLocation: 1200 W University Avenue\, Mitchell SD 57301-4358 \nTraining Topics: Business Start-up/Preplanning\, Marketing/Sales\, Networking\, Other\, Social Media\, Woman-owned Businesses\nDescription: \n\nJoin us for the second Elevate Women on May 21\, 2025\, in Mitchell\, SD\, at Dakota Wesleyan University from 11:30pm – 3:00pm! \nThe Elevate Women will focus on uplifting YOU personally and professionally! Get ready to hear from women business professionals from the Mitchell area who will leave you inspired and ready to elevate to your next level. NEW THIS YEAR: Professionals from a variety of industries will lead breakout workshops and be available for your small business questions! \n— \nWhen: May 21\, 2025 11:30am – 3:00pm \nWhere: Dakota Wesleyan University School of Business\, Innovation\, and Leadership 1200 W University Ave Mitchell\, SD 57032 \nWhat: Elevate Women Panel Luncheon & Small Business Training Workshops \nSchedule: \n11:30am – 12:00pm     Registration & Lunch\n12:00pm – 12:10pm     Welcome\n12:10pm – 1:00pm       Elevate Women Panel Luncheon Presentation\n1:30pm – 3:00pm         *NEW THIS YEAR* Small Business Training Workshops   \n— \nElevate Panel Speakers \nTBA \nModerator:  \nTBA\nPanelists:  \nTBA\n\nSmall Business Training Workshop Speakers: \nTBA \n\n\n— \n\n\nIndividual tickets cost $35 and table (8) eight seats cost $250. Each ticket includes (1) one lunch and refreshments. \nTICKET DEADLINE: May 14\, 2025 at 5:00pm \nLate TICKET DEADLINE: May 19\, 2025 at 5:00pm and individual tickets will cost $45 \n— \nVendor Booths cost $60 and include (1) one lunch meal. \n— \nInterested in sponsoring this event? Contact Sadie Swier at Sadie.Swier@bhsu.edu \n— \n\nHave questions? Need help registering? Contact the SD CEO team at 605-631-9106 or email Sadie.Swier@bhsu.edu. \nThe SD CEO East Women’s Business Center\, is funded in part by the U.S. Small Business Administration. Reasonable accommodations for persons with disabilities will be made if requested at least two weeks in advance. Contact Sadie Swier (Sadie.Swier@BHSU.edu.)
URL:https://www.startupsiouxfalls.com/event/elevate-women-mitchell/
LOCATION:Dakota Wesleyan University School of Business\, Innovation\, and Leadership\, 1200 W University Ave\, Mitchell\, SD\, 57032\, United States
ATTACH;FMTTYPE=image/png:https://www.startupsiouxfalls.com/wp-content/uploads/2025/03/sdceo3.png
END:VEVENT
END:VCALENDAR