BEGIN:VCALENDAR
VERSION:2.0
PRODID:-//Startup Sioux Falls - ECPv6.15.20//NONSGML v1.0//EN
CALSCALE:GREGORIAN
METHOD:PUBLISH
X-WR-CALNAME:Startup Sioux Falls
X-ORIGINAL-URL:https://www.startupsiouxfalls.com
X-WR-CALDESC:Events for Startup Sioux Falls
REFRESH-INTERVAL;VALUE=DURATION:PT1H
X-Robots-Tag:noindex
X-PUBLISHED-TTL:PT1H
BEGIN:VTIMEZONE
TZID:America/Chicago
BEGIN:DAYLIGHT
TZOFFSETFROM:-0600
TZOFFSETTO:-0500
TZNAME:CDT
DTSTART:20240310T080000
END:DAYLIGHT
BEGIN:STANDARD
TZOFFSETFROM:-0500
TZOFFSETTO:-0600
TZNAME:CST
DTSTART:20241103T070000
END:STANDARD
BEGIN:DAYLIGHT
TZOFFSETFROM:-0600
TZOFFSETTO:-0500
TZNAME:CDT
DTSTART:20250309T080000
END:DAYLIGHT
BEGIN:STANDARD
TZOFFSETFROM:-0500
TZOFFSETTO:-0600
TZNAME:CST
DTSTART:20251102T070000
END:STANDARD
BEGIN:DAYLIGHT
TZOFFSETFROM:-0600
TZOFFSETTO:-0500
TZNAME:CDT
DTSTART:20260308T080000
END:DAYLIGHT
BEGIN:STANDARD
TZOFFSETFROM:-0500
TZOFFSETTO:-0600
TZNAME:CST
DTSTART:20261101T070000
END:STANDARD
END:VTIMEZONE
BEGIN:VEVENT
DTSTART;TZID=America/Chicago:20250823T100000
DTEND;TZID=America/Chicago:20250823T200000
DTSTAMP:20260419T235137
CREATED:20250815T163755Z
LAST-MODIFIED:20250815T163755Z
UID:10002705-1755943200-1755979200@www.startupsiouxfalls.com
SUMMARY:All My Relatives Festival
DESCRIPTION:Join us for the third annual Mitakuye Owas’iƞ * All My Relatives * Mitákuye Oyás’iŋ Festival on Saturday\, August 23\, 2025\, at Levitt at the Falls. This celebration of Native American music\, art\, and culture begins at 10:00 AM and offers a full day of performances\, activities\, and creative experiences. \nFestival Highlights: \n\nLevitt Concert Performances throughout the day featuring: The Sampson Brothers\, Isanti\, Dakotah Faye\, Night Shield & Friends\, and Mato Wayuhi.\nFeatured speakers and comedians offering engaging and inspiring presentations\nVisual arts activities and an Emerging Artist Showcase at Rehfeld’s Art & Framing\nVendor fair showcasing Native artists\, craftspeople\, and businesses.\nFashion show featuring designs from The Beauty Nest\, star in the sky sewing\, JS Wear\, Shinin’ Star Style\, and Breezy Designs.\nInteractive children’s activities\n\nThis event is proudly sponsored by the Wokini Initiative of South Dakota State University\, dedicated to enhancing educational opportunities and cultural programming for Native American students and communities.
URL:https://www.startupsiouxfalls.com/event/all-my-relatives-festival/
LOCATION:Levitt at the Falls\, 504 N. Phillips Avenue\,\, Sioux Falls\, SD\, United States
ATTACH;FMTTYPE=image/jpeg:https://www.startupsiouxfalls.com/wp-content/uploads/2025/08/festival.jpg
ORGANIZER;CN="Levitt at the Falls":MAILTO:info@levittsiouxfalls.org
END:VEVENT
BEGIN:VEVENT
DTSTART;TZID=America/Chicago:20250726T170000
DTEND;TZID=America/Chicago:20250726T213000
DTSTAMP:20260419T235137
CREATED:20250505T204034Z
LAST-MODIFIED:20250505T204034Z
UID:10002375-1753549200-1753565400@www.startupsiouxfalls.com
SUMMARY:The ADA Festival: Strengthening Connections & Moving Forward Together
DESCRIPTION:The ADA Sioux Falls Committee and the City of Sioux Falls Disability Awareness and Accessibility Review Board (DAARB) are excited to announce The ADA Festival: Strengthening Connections & Moving Forward Together. \nThe milestone celebration being held on Saturday\, July 26\, 2025\, from 5:00PM to 9:30PM looks to commemorate the 35th Anniversary of the important day protections were guaranteed for people with disabilities with the signing of the Americans with Disabilities Act. The celebration\, first-of-its kind in Sioux Falls\, South Dakota\, will honor the deeply interwoven connections we all share with people with disabilities\, will foster opportunities for greater understanding and will look to the future as a community of diverse perspectives and abilities. The festival will take place at the Levitt at the Falls and include vendors\, interactive booths\, activities\, food trucks\, and more. The celebration will culminate with performances by artists with disabilities throughout the evening and a Proclamation from Mayor Paul TenHaken. \nThank you to our Fiscal Agent for The ADA Festival\, Independent Living Choices\, a registered 501 (c)(3). \nThis event wouldn’t be possible without incredible sponsors including Sanford\, First Bank and Trust\, Augustana University\, Avera Foundation\, Experience Sioux Falls\, First PREMIER Bank and PREMIER Bankcard\, Forward Sioux Falls\, Journey Group\, Knife River\, MarketBeat\, Mobility Works\, Sioux Valley Energy’s Operation Round Up\, RehabACTion\, Verne Eide Motorcars\, Inc. and other important community supporters.
URL:https://www.startupsiouxfalls.com/event/the-ada-festival-strengthening-connections-moving-forward-together/
LOCATION:Levitt at the Falls\, 504 N. Phillips Avenue\,\, Sioux Falls\, SD\, United States
ATTACH;FMTTYPE=image/jpeg:https://www.startupsiouxfalls.com/wp-content/uploads/2025/05/Festival-Logo-Rect.jpg
ORGANIZER;CN="ADA Sioux Falls":MAILTO:adafestivalsf@gmail.com
END:VEVENT
END:VCALENDAR