BEGIN:VCALENDAR
VERSION:2.0
PRODID:-//Startup Sioux Falls - ECPv6.15.20//NONSGML v1.0//EN
CALSCALE:GREGORIAN
METHOD:PUBLISH
X-ORIGINAL-URL:https://www.startupsiouxfalls.com
X-WR-CALDESC:Events for Startup Sioux Falls
REFRESH-INTERVAL;VALUE=DURATION:PT1H
X-Robots-Tag:noindex
X-PUBLISHED-TTL:PT1H
BEGIN:VTIMEZONE
TZID:America/Chicago
BEGIN:DAYLIGHT
TZOFFSETFROM:-0600
TZOFFSETTO:-0500
TZNAME:CDT
DTSTART:20250309T080000
END:DAYLIGHT
BEGIN:STANDARD
TZOFFSETFROM:-0500
TZOFFSETTO:-0600
TZNAME:CST
DTSTART:20251102T070000
END:STANDARD
BEGIN:DAYLIGHT
TZOFFSETFROM:-0600
TZOFFSETTO:-0500
TZNAME:CDT
DTSTART:20260308T080000
END:DAYLIGHT
BEGIN:STANDARD
TZOFFSETFROM:-0500
TZOFFSETTO:-0600
TZNAME:CST
DTSTART:20261101T070000
END:STANDARD
BEGIN:DAYLIGHT
TZOFFSETFROM:-0600
TZOFFSETTO:-0500
TZNAME:CDT
DTSTART:20270314T080000
END:DAYLIGHT
BEGIN:STANDARD
TZOFFSETFROM:-0500
TZOFFSETTO:-0600
TZNAME:CST
DTSTART:20271107T070000
END:STANDARD
END:VTIMEZONE
BEGIN:VEVENT
DTSTART;TZID=America/Chicago:20260331T093000
DTEND;TZID=America/Chicago:20260331T103000
DTSTAMP:20260423T063305
CREATED:20260324T172457Z
LAST-MODIFIED:20260324T172951Z
UID:10003738-1774949400-1774953000@www.startupsiouxfalls.com
SUMMARY:Jaunt Downtown Mobility Workshop
DESCRIPTION:As a first-of-its-kind community mobility system\, Jaunt continues to pioneer local economic connectivity. We are hosting a short workshop for downtown businesses\, employers\, and community organizations to explore how shared ebikes can increase customer traffic and improve access across downtown Sioux Falls. \nThis session will include:\n– Insights on how thousands of Jaunt Riders promoted sustainability\, physical\, mental\, and economic health for Sioux Falls in 2025\n– Employee commuting options for downtown offices\n– Community ride partnerships for events and organizations\n– Direct customer traffic for businesses\n– A preview of the upcoming Downtown Sioux Falls Mobility Pilot \nSign up here!
URL:https://www.startupsiouxfalls.com/event/jaunt-downtown-mobility-workshop/
LOCATION:Zoom or Startup Sioux Falls
ATTACH;FMTTYPE=image/jpeg:https://www.startupsiouxfalls.com/wp-content/uploads/2026/03/Downtown-Mobility-Customer-Traffic-Workshop-with-Jaunt.jpg
END:VEVENT
END:VCALENDAR